{"text_format":"1","workbook":"xlsx","n_sheets":9,"sheets":["A Fleet Scoring","B Fleet Scoring","Team Results","Finishes","FINISH SHEET A","FINISH SHEET B","FINISH SHEET JV","A-B Rotation Sheet","Sheet1"],"not_rendered":{"charts":0,"images":0,"macros":1,"external_links":0,"defined_names":6,"comments":0,"pivot_tables":0},"unopened":[],"bounds":{"document_bytes":16777216,"sheet_cells":100000,"rows_first":2000,"rows_last":500,"rows_between":2000,"halvings":0,"cell_chars":16384,"cell_head_chars":4096},"cells_cut":0,"cells_raw":0,"read":"whole","date_system":"1900"}

{"sheet":"A Fleet Scoring","index":0,"n_rows":42,"n_cols":34,"rows_kept":42,"cut":false,"hidden":false,"merged":[[37,6,37,7],[37,14,37,17],[35,3,35,5],[36,3,36,5],[35,13,35,15],[36,12,36,15],[36,6,36,7],[35,6,35,7],[14,26,14,27],[0,0,0,24],[14,2,14,3],[14,5,14,6],[14,8,14,9],[14,11,14,12],[14,14,14,15],[14,17,14,18],[14,20,14,21],[14,23,14,24]]}
["Host: PHS/WA       Event: VISA FLEET RACE       Location: NYCC          Date: March 16, 2013"]
["Christchurch"]
["Deep Run"]
["HRA"]
["Maury HS"]
["Nansemond Suffolk"]
["Norfolk Academy"]
["Norfolk Collegiate"]
["Poquoson HS"]
["Smithfield HS"]
["St. Catherines"]
["St. Christopher's"]
["St. Gertrude"]
["Walsingham"]
["A Fleet","Sail","Fleet/Race",null,"Sail","Fleet/Race",null,"Sail","Fleet/Race",null,"Sail","Fleet/Race",null,"Sail","Fleet/Race",null,"Sail","Fleet/Race",null,"Sail","Fleet/Race",null,"Sail","Fleet/Race",null,"Sail","Fleet/Race"]
["School","Boat",1,2,"Boat",3,4,"Boat",5,6,"Boat",7,8,"Boat",9,10,"Boat",11,12,"Boat",13,14,"Boat",15,16,"Boat",17,18]
["Norfolk Academy",1,2,4,{"$f":"IF(B17,B19)","v":3},8,5,{"$f":"IF(E17,E19)","v":5},3,null,{"$f":"IF(H17,H19)","v":7},null,null,{"$f":"IF(K17,K19)","v":9},null,null,{"$f":"IF(N17,N19)","v":11},null,null,{"$f":"IF(Q17,Q19)","v":13},null,null,{"$f":"IF(T17,T19)","v":1},null,null,{"$f":"IF(W17,W19)","v":3},null,null,{"$f":"RANK(AF17,$AF$17:$AF$34,0)+COUNTIF($AF$17:AF17,AF17)-1","v":12},{"$f":"COUNT($AF$17:$AF$34)","v":18},{"$f":"#VALUE!","v":{"$error":"#VALUE!"}},{"$f":"SUM(C17:D17,F17:G17,I17:J17,L17:M17,O17:P17,R17:S17,U17:V17,X17:Y17,AA17:AB17)","v":22},{"$f":"OFFSET(A$17,MATCH(LARGE(AC$17:AC$34,ROW() -ROW(AC$17)+1),AC$17:AC$34,0)-1,0)","v":0},{"$f":"OFFSET(AF$17,MATCH(LARGE(AC$17:AC$34,ROW() -ROW(AC$17)+1),AC$17:AC$34,0)-1,0)","v":0}]
["Poquoson 1",2,3,1,4,5,2,6,1,null,15,null,null,10,null,null,12,null,null,14,null,null,2,null,null,4,null,null,{"$f":"RANK(AF18,$AF$17:$AF$34,0)+COUNTIF($AF$17:AF18,AF18)-1","v":14},{"$f":"COUNT($AF$17:$AF$34)","v":18},{"$f":"#VALUE!","v":{"$error":"#VALUE!"}},{"$f":"SUM(C18:D18,F18:G18,I18:J18,L18:M18,O18:P18,R18:S18,U18:V18,X18:Y18,AA18:AB18)","v":12},{"$f":"OFFSET(A$17,MATCH(LARGE(AC$17:AC$34,ROW() -ROW(AC$17)+1),AC$17:AC$34,0)-1,0)","v":0},{"$f":"OFFSET(AF$17,MATCH(LARGE(AC$17:AC$34,ROW() -ROW(AC$17)+1),AC$17:AC$34,0)-1,0)","v":0}]
["Walsingham",3,1,2,5,3,11,7,6,null,9,null,null,11,null,null,13,null,null,1,null,null,3,null,null,5,null,null,{"$f":"RANK(AF19,$AF$17:$AF$34,0)+COUNTIF($AF$17:AF19,AF19)-1","v":11},18,{"$f":"#VALUE!","v":{"$error":"#VALUE!"}},23,{"$f":"OFFSET(A$17,MATCH(LARGE(AC$17:AC$34,ROW() -ROW(AC$17)+1),AC$17:AC$34,0)-1,0)","v":0},{"$f":"OFFSET(AF$17,MATCH(LARGE(AC$17:AC$34,ROW() -ROW(AC$17)+1),AC$17:AC$34,0)-1,0)","v":0}]
["Norfolk Collegiate 1",4,7,3,6,2,8,15,2,null,10,null,null,12,null,null,14,null,null,2,null,null,4,null,null,6,null,null,{"$f":"RANK(AF20,$AF$17:$AF$34,0)+COUNTIF($AF$17:AF20,AF20)-1","v":13},18,{"$f":"#VALUE!","v":{"$error":"#VALUE!"}},22,{"$f":"OFFSET(A$17,MATCH(LARGE(AC$17:AC$34,ROW() -ROW(AC$17)+1),AC$17:AC$34,0)-1,0)","v":0},{"$f":"OFFSET(AF$17,MATCH(LARGE(AC$17:AC$34,ROW() -ROW(AC$17)+1),AC$17:AC$34,0)-1,0)","v":0}]
["Kecoughtan 1",5,5,5,7,4,4,9,10,null,11,null,null,13,null,null,1,null,null,3,null,null,5,null,null,7,null,null,{"$f":"RANK(AF21,$AF$17:$AF$34,0)+COUNTIF($AF$17:AF21,AF21)-1","v":9},18,{"$f":"#VALUE!","v":{"$error":"#VALUE!"}},28,{"$f":"OFFSET(A$17,MATCH(LARGE(AC$17:AC$34,ROW() -ROW(AC$17)+1),AC$17:AC$34,0)-1,0)","v":"Poquoson 1"},{"$f":"OFFSET(AF$17,MATCH(LARGE(AC$17:AC$34,ROW() -ROW(AC$17)+1),AC$17:AC$34,0)-1,0)","v":12}]
["Maury 1",6,6,9,15,1,10,10,5,null,12,null,null,14,null,null,2,null,null,4,null,null,6,null,null,15,null,null,{"$f":"RANK(AF22,$AF$17:$AF$34,0)+COUNTIF($AF$17:AF22,AF22)-1","v":7},18,{"$f":"#VALUE!","v":{"$error":"#VALUE!"}},31,{"$f":"OFFSET(A$17,MATCH(LARGE(AC$17:AC$34,ROW() -ROW(AC$17)+1),AC$17:AC$34,0)-1,0)","v":"Norfolk Collegiate 1"},{"$f":"OFFSET(AF$17,MATCH(LARGE(AC$17:AC$34,ROW() -ROW(AC$17)+1),AC$17:AC$34,0)-1,0)","v":22}]
["Nansemnd Suffolk",7,13,14,9,10,13,11,13,null,13,null,null,1,null,null,3,null,null,5,null,null,7,null,null,9,null,null,{"$f":"RANK(AF23,$AF$17:$AF$34,0)+COUNTIF($AF$17:AF23,AF23)-1","v":2},18,{"$f":"#VALUE!","v":{"$error":"#VALUE!"}},63,{"$f":"OFFSET(A$17,MATCH(LARGE(AC$17:AC$34,ROW() -ROW(AC$17)+1),AC$17:AC$34,0)-1,0)","v":"Norfolk Academy"},{"$f":"OFFSET(AF$17,MATCH(LARGE(AC$17:AC$34,ROW() -ROW(AC$17)+1),AC$17:AC$34,0)-1,0)","v":22}]
["Hampton/Phoebus",15,8,8,10,6,1,12,7,null,14,null,null,2,null,null,4,null,null,6,null,null,15,null,null,10,null,null,{"$f":"RANK(AF24,$AF$17:$AF$34,0)+COUNTIF($AF$17:AF24,AF24)-1","v":8},18,{"$f":"#VALUE!","v":{"$error":"#VALUE!"}},30,{"$f":"OFFSET(A$17,MATCH(LARGE(AC$17:AC$34,ROW() -ROW(AC$17)+1),AC$17:AC$34,0)-1,0)","v":"Walsingham"},{"$f":"OFFSET(AF$17,MATCH(LARGE(AC$17:AC$34,ROW() -ROW(AC$17)+1),AC$17:AC$34,0)-1,0)","v":23}]
["Smithfield HS",9,14,13,11,14,14,13,14,null,1,null,null,3,null,null,5,null,null,7,null,null,9,null,null,11,null,null,{"$f":"RANK(AF25,$AF$17:$AF$34,0)+COUNTIF($AF$17:AF25,AF25)-1","v":1},18,{"$f":"#VALUE!","v":{"$error":"#VALUE!"}},69,{"$f":"OFFSET(A$17,MATCH(LARGE(AC$17:AC$34,ROW() -ROW(AC$17)+1),AC$17:AC$34,0)-1,0)","v":"Norfolk Collegiate 2"},{"$f":"OFFSET(AF$17,MATCH(LARGE(AC$17:AC$34,ROW() -ROW(AC$17)+1),AC$17:AC$34,0)-1,0)","v":28}]
["HRA",10,10,11,12,13,7,14,12,null,2,null,null,4,null,null,6,null,null,15,null,null,10,null,null,12,null,null,{"$f":"RANK(AF26,$AF$17:$AF$34,0)+COUNTIF($AF$17:AF26,AF26)-1","v":3},18,{"$f":"#VALUE!","v":{"$error":"#VALUE!"}},53,{"$f":"OFFSET(A$17,MATCH(LARGE(AC$17:AC$34,ROW() -ROW(AC$17)+1),AC$17:AC$34,0)-1,0)","v":"Kecoughtan 1"},{"$f":"OFFSET(AF$17,MATCH(LARGE(AC$17:AC$34,ROW() -ROW(AC$17)+1),AC$17:AC$34,0)-1,0)","v":28}]
["Poquoson 2",11,11,10,13,11,9,1,9,null,3,null,null,5,null,null,7,null,null,9,null,null,11,null,null,13,null,null,{"$f":"RANK(AF27,$AF$17:$AF$34,0)+COUNTIF($AF$17:AF27,AF27)-1","v":5},18,{"$f":"#VALUE!","v":{"$error":"#VALUE!"}},50,{"$f":"OFFSET(A$17,MATCH(LARGE(AC$17:AC$34,ROW() -ROW(AC$17)+1),AC$17:AC$34,0)-1,0)","v":"Hampton/Phoebus"},{"$f":"OFFSET(AF$17,MATCH(LARGE(AC$17:AC$34,ROW() -ROW(AC$17)+1),AC$17:AC$34,0)-1,0)","v":30}]
["Norfolk Collegiate 2",12,4,6,14,7,3,2,8,null,4,null,null,6,null,null,15,null,null,10,null,null,12,null,null,14,null,null,{"$f":"RANK(AF28,$AF$17:$AF$34,0)+COUNTIF($AF$17:AF28,AF28)-1","v":10},18,{"$f":"#VALUE!","v":{"$error":"#VALUE!"}},28,{"$f":"OFFSET(A$17,MATCH(LARGE(AC$17:AC$34,ROW() -ROW(AC$17)+1),AC$17:AC$34,0)-1,0)","v":"Maury 1"},{"$f":"OFFSET(AF$17,MATCH(LARGE(AC$17:AC$34,ROW() -ROW(AC$17)+1),AC$17:AC$34,0)-1,0)","v":31}]
["Kecoughtan 2",13,9,7,1,9,12,3,4,null,5,null,null,7,null,null,9,null,null,11,null,null,13,null,null,1,null,null,{"$f":"RANK(AF29,$AF$17:$AF$34,0)+COUNTIF($AF$17:AF29,AF29)-1","v":6},18,{"$f":"#VALUE!","v":{"$error":"#VALUE!"}},41,{"$f":"OFFSET(A$17,MATCH(LARGE(AC$17:AC$34,ROW() -ROW(AC$17)+1),AC$17:AC$34,0)-1,0)","v":"Kecoughtan 2"},{"$f":"OFFSET(AF$17,MATCH(LARGE(AC$17:AC$34,ROW() -ROW(AC$17)+1),AC$17:AC$34,0)-1,0)","v":41}]
["Maury 2",14,12,12,2,12,6,4,11,null,6,null,null,15,null,null,10,null,null,12,null,null,14,null,null,2,null,null,{"$f":"RANK(AF30,$AF$17:$AF$34,0)+COUNTIF($AF$17:AF30,AF30)-1","v":4},18,{"$f":"#VALUE!","v":{"$error":"#VALUE!"}},53,{"$f":"OFFSET(A$17,MATCH(LARGE(AC$17:AC$34,ROW() -ROW(AC$17)+1),AC$17:AC$34,0)-1,0)","v":"Poquoson 2"},{"$f":"OFFSET(AF$17,MATCH(LARGE(AC$17:AC$34,ROW() -ROW(AC$17)+1),AC$17:AC$34,0)-1,0)","v":50}]
[null,null,null,null,null,null,null,null,null,null,null,null,null,null,null,null,null,null,null,null,null,null,null,null,null,null,null,null,{"$f":"RANK(AF31,$AF$17:$AF$34,0)+COUNTIF($AF$17:AF31,AF31)-1","v":15},18,{"$f":"#VALUE!","v":{"$error":"#VALUE!"}},0,{"$f":"OFFSET(A$17,MATCH(LARGE(AC$17:AC$34,ROW() -ROW(AC$17)+1),AC$17:AC$34,0)-1,0)","v":"Maury 2"},{"$f":"OFFSET(AF$17,MATCH(LARGE(AC$17:AC$34,ROW() -ROW(AC$17)+1),AC$17:AC$34,0)-1,0)","v":53}]
[null,null,null,null,null,null,null,null,null,null,null,null,null,null,null,null,null,null,null,null,null,null,null,null,null,null,null,null,{"$f":"RANK(AF32,$AF$17:$AF$34,0)+COUNTIF($AF$17:AF32,AF32)-1","v":16},18,{"$f":"#VALUE!","v":{"$error":"#VALUE!"}},0,{"$f":"OFFSET(A$17,MATCH(LARGE(AC$17:AC$34,ROW() -ROW(AC$17)+1),AC$17:AC$34,0)-1,0)","v":"HRA"},{"$f":"OFFSET(AF$17,MATCH(LARGE(AC$17:AC$34,ROW() -ROW(AC$17)+1),AC$17:AC$34,0)-1,0)","v":53}]
[null,null,null,null,null,null,null,null,null,null,null,null,null,null,null,null,null,null,null,null,null,null,null,null,null,null,null,null,{"$f":"RANK(AF33,$AF$17:$AF$34,0)+COUNTIF($AF$17:AF33,AF33)-1","v":17},18,{"$f":"#VALUE!","v":{"$error":"#VALUE!"}},0,{"$f":"OFFSET(A$17,MATCH(LARGE(AC$17:AC$34,ROW() -ROW(AC$17)+1),AC$17:AC$34,0)-1,0)","v":"Nansemnd Suffolk"},{"$f":"OFFSET(AF$17,MATCH(LARGE(AC$17:AC$34,ROW() -ROW(AC$17)+1),AC$17:AC$34,0)-1,0)","v":63}]
[null,null,null,null,null,null,null,null,null,null,null,null,null,null,null,null,null,null,null,null,null,null,null,null,null,null,null,null,{"$f":"RANK(AF34,$AF$17:$AF$34,0)+COUNTIF($AF$17:AF34,AF34)-1","v":18},18,{"$f":"#VALUE!","v":{"$error":"#VALUE!"}},0,{"$f":"OFFSET(A$17,MATCH(LARGE(AC$17:AC$34,ROW() -ROW(AC$17)+1),AC$17:AC$34,0)-1,0)","v":"Smithfield HS"},{"$f":"OFFSET(AF$17,MATCH(LARGE(AC$17:AC$34,ROW() -ROW(AC$17)+1),AC$17:AC$34,0)-1,0)","v":69}]
[]
[null,null,"DNS","Did Not Start",null,null,"Fleet +1",null,null,null,null,null,"DSQ","Disqualified",null,null,"Fleet + 1"]
[null,null,"DNF","Did Not Finish",null,null,"Fleet +1",null,null,null,null,null,"Protest throw out = DSQ"]
[null,null,"RET","Retired",null,null,"Fleet +1",null,null,null,null,null,"Redress "]
[]
[]
[]
["First set 3 races, second set 2 races."]

{"sheet":"B Fleet Scoring","index":1,"n_rows":52,"n_cols":34,"rows_kept":52,"cut":false,"hidden":false,"merged":[[14,26,14,27],[35,3,35,5],[35,6,35,7],[35,13,35,15],[0,0,0,24],[14,2,14,3],[14,5,14,6],[14,8,14,9],[14,11,14,12],[14,14,14,15],[14,17,14,18],[14,20,14,21],[14,23,14,24],[36,3,36,5],[36,6,36,7],[36,12,36,15],[37,6,37,7],[37,14,37,17]]}
[{"$f":"'A Fleet Scoring'!$A$1","v":"Host: PHS/WA       Event: VISA FLEET RACE       Location: NYCC          Date: March 16, 2013"}]
["Christchurch"]
["Deep Run"]
["HRA"]
["Maury HS"]
["Nansemond Suffolk"]
["Norfolk Academy"]
["Norfolk Collegiate"]
["Poquoson HS"]
["Smithfield HS"]
["St. Catherines"]
["St. Christopher's"]
["St. Gertrude"]
["Walsingham"]
["B Fleet","Sail","Fleet/Race",null,"Sail","Fleet/Race",null,"Sail","Fleet/Race",null,"Sail","Fleet/Race",null,"Sail","Fleet/Race",null,"Sail","Fleet/Race",null,"Sail","Fleet/Race",null,"Sail","Fleet/Race",null,"Sail","Fleet/Race"]
["School","Boat",1,2,"Boat",3,4,"Boat",5,6,"Boat",7,8,"Boat",9,10,"Boat",11,12,"Boat",13,14,"Boat",15,16,"Boat",17,18]
["Norfolk Academy",2,2,1,{"$f":"IF(B17,B19)","v":4},2,1,{"$f":"IF(E17,E19)","v":6},2,null,{"$f":"IF(H17,H19)","v":15},null,null,{"$f":"IF(K17,K19)","v":10},null,null,{"$f":"IF(N17,N19)","v":12},null,null,{"$f":"IF(Q17,Q19)","v":14},null,null,2,null,null,{"$f":"IF(W17,W19)","v":4},null,null,{"$f":"RANK(AF17,$AF$17:$AF$34,0)+COUNTIF($AF$17:AF17,AF17)-1","v":14},{"$f":"COUNT($AF$17:$AF$34)","v":18},{"$f":"#VALUE!","v":{"$error":"#VALUE!"}},{"$f":"SUM(C17:D17,F17:G17,I17:J17,L17:M17,O17:P17,R17:S17,U17:V17,X17:Y17,AA17:AB17)","v":8},{"$f":"OFFSET(A$17,MATCH(LARGE(AC$17:AC$34,ROW() -ROW(AC$17)+1),AC$17:AC$34,0)-1,0)","v":0},{"$f":"OFFSET(AF$17,MATCH(LARGE(AC$17:AC$34,ROW() -ROW(AC$17)+1),AC$17:AC$34,0)-1,0)","v":0}]
["Poquoson 1",3,3,5,5,11,6,7,1,null,9,null,null,11,null,null,13,null,null,1,null,null,3,null,null,5,null,null,{"$f":"RANK(AF18,$AF$17:$AF$34,0)+COUNTIF($AF$17:AF18,AF18)-1","v":12},{"$f":"COUNT($AF$17:$AF$34)","v":18},{"$f":"#VALUE!","v":{"$error":"#VALUE!"}},{"$f":"SUM(C18:D18,F18:G18,I18:J18,L18:M18,O18:P18,R18:S18,U18:V18,X18:Y18,AA18:AB18)","v":26},{"$f":"OFFSET(A$17,MATCH(LARGE(AC$17:AC$34,ROW() -ROW(AC$17)+1),AC$17:AC$34,0)-1,0)","v":0},{"$f":"OFFSET(AF$17,MATCH(LARGE(AC$17:AC$34,ROW() -ROW(AC$17)+1),AC$17:AC$34,0)-1,0)","v":0}]
["Walsingham",4,8,12,6,7,13,15,10,null,10,null,null,12,null,null,14,null,null,2,null,null,4,null,null,6,null,null,{"$f":"RANK(AF19,$AF$17:$AF$34,0)+COUNTIF($AF$17:AF19,AF19)-1","v":4},18,{"$f":"#VALUE!","v":{"$error":"#VALUE!"}},50,{"$f":"OFFSET(A$17,MATCH(LARGE(AC$17:AC$34,ROW() -ROW(AC$17)+1),AC$17:AC$34,0)-1,0)","v":0},{"$f":"OFFSET(AF$17,MATCH(LARGE(AC$17:AC$34,ROW() -ROW(AC$17)+1),AC$17:AC$34,0)-1,0)","v":0}]
["Norfolk Collegiate 1",5,1,2,7,1,3,9,5,null,11,null,null,13,null,null,1,null,null,3,null,null,5,null,null,7,null,null,{"$f":"RANK(AF20,$AF$17:$AF$34,0)+COUNTIF($AF$17:AF20,AF20)-1","v":13},18,{"$f":"#VALUE!","v":{"$error":"#VALUE!"}},12,{"$f":"OFFSET(A$17,MATCH(LARGE(AC$17:AC$34,ROW() -ROW(AC$17)+1),AC$17:AC$34,0)-1,0)","v":0},{"$f":"OFFSET(AF$17,MATCH(LARGE(AC$17:AC$34,ROW() -ROW(AC$17)+1),AC$17:AC$34,0)-1,0)","v":0}]
["Kecoughtan 1",6,4,7,15,6,5,10,11,null,12,null,null,14,null,null,2,null,null,4,null,null,6,null,null,15,null,null,{"$f":"RANK(AF21,$AF$17:$AF$34,0)+COUNTIF($AF$17:AF21,AF21)-1","v":9},18,{"$f":"#VALUE!","v":{"$error":"#VALUE!"}},33,{"$f":"OFFSET(A$17,MATCH(LARGE(AC$17:AC$34,ROW() -ROW(AC$17)+1),AC$17:AC$34,0)-1,0)","v":"Norfolk Academy"},{"$f":"OFFSET(AF$17,MATCH(LARGE(AC$17:AC$34,ROW() -ROW(AC$17)+1),AC$17:AC$34,0)-1,0)","v":8}]
["Maury 1",7,14,13,9,12,12,11,14,null,13,null,null,1,null,null,3,null,null,5,null,null,7,null,null,9,null,null,{"$f":"RANK(AF22,$AF$17:$AF$34,0)+COUNTIF($AF$17:AF22,AF22)-1","v":1},18,{"$f":"#VALUE!","v":{"$error":"#VALUE!"}},65,{"$f":"OFFSET(A$17,MATCH(LARGE(AC$17:AC$34,ROW() -ROW(AC$17)+1),AC$17:AC$34,0)-1,0)","v":"Norfolk Collegiate 1"},{"$f":"OFFSET(AF$17,MATCH(LARGE(AC$17:AC$34,ROW() -ROW(AC$17)+1),AC$17:AC$34,0)-1,0)","v":12}]
["Nansemond Suffolk",15,11,3,10,14,11,12,13,null,14,null,null,2,null,null,4,null,null,6,null,null,15,null,null,10,null,null,{"$f":"RANK(AF23,$AF$17:$AF$34,0)+COUNTIF($AF$17:AF23,AF23)-1","v":2},18,{"$f":"#VALUE!","v":{"$error":"#VALUE!"}},52,{"$f":"OFFSET(A$17,MATCH(LARGE(AC$17:AC$34,ROW() -ROW(AC$17)+1),AC$17:AC$34,0)-1,0)","v":"Poquoson 1"},{"$f":"OFFSET(AF$17,MATCH(LARGE(AC$17:AC$34,ROW() -ROW(AC$17)+1),AC$17:AC$34,0)-1,0)","v":26}]
["Hampton/Phoebus",9,9,4,11,5,8,13,8,null,1,null,null,3,null,null,5,null,null,7,null,null,9,null,null,11,null,null,{"$f":"RANK(AF24,$AF$17:$AF$34,0)+COUNTIF($AF$17:AF24,AF24)-1","v":8},18,{"$f":"#VALUE!","v":{"$error":"#VALUE!"}},34,{"$f":"OFFSET(A$17,MATCH(LARGE(AC$17:AC$34,ROW() -ROW(AC$17)+1),AC$17:AC$34,0)-1,0)","v":"Kecoughtan 2"},{"$f":"OFFSET(AF$17,MATCH(LARGE(AC$17:AC$34,ROW() -ROW(AC$17)+1),AC$17:AC$34,0)-1,0)","v":33}]
["Smithfield HS",10,13,8,12,13,7,14,7,null,2,null,null,4,null,null,6,null,null,15,null,null,10,null,null,12,null,null,{"$f":"RANK(AF25,$AF$17:$AF$34,0)+COUNTIF($AF$17:AF25,AF25)-1","v":5},18,{"$f":"#VALUE!","v":{"$error":"#VALUE!"}},48,{"$f":"OFFSET(A$17,MATCH(LARGE(AC$17:AC$34,ROW() -ROW(AC$17)+1),AC$17:AC$34,0)-1,0)","v":"HRA"},{"$f":"OFFSET(AF$17,MATCH(LARGE(AC$17:AC$34,ROW() -ROW(AC$17)+1),AC$17:AC$34,0)-1,0)","v":33}]
["HRA",11,6,10,13,4,4,1,9,null,3,null,null,5,null,null,7,null,null,9,null,null,11,null,null,13,null,null,{"$f":"RANK(AF26,$AF$17:$AF$34,0)+COUNTIF($AF$17:AF26,AF26)-1","v":10},18,{"$f":"#VALUE!","v":{"$error":"#VALUE!"}},33,{"$f":"OFFSET(A$17,MATCH(LARGE(AC$17:AC$34,ROW() -ROW(AC$17)+1),AC$17:AC$34,0)-1,0)","v":"Kecoughtan 1"},{"$f":"OFFSET(AF$17,MATCH(LARGE(AC$17:AC$34,ROW() -ROW(AC$17)+1),AC$17:AC$34,0)-1,0)","v":33}]
["Poquoson 2",12,7,6,14,10,9,2,12,null,4,null,null,6,null,null,15,null,null,10,null,null,12,null,null,14,null,null,{"$f":"RANK(AF27,$AF$17:$AF$34,0)+COUNTIF($AF$17:AF27,AF27)-1","v":6},18,{"$f":"#VALUE!","v":{"$error":"#VALUE!"}},44,{"$f":"OFFSET(A$17,MATCH(LARGE(AC$17:AC$34,ROW() -ROW(AC$17)+1),AC$17:AC$34,0)-1,0)","v":"Hampton/Phoebus"},{"$f":"OFFSET(AF$17,MATCH(LARGE(AC$17:AC$34,ROW() -ROW(AC$17)+1),AC$17:AC$34,0)-1,0)","v":34}]
["Norfolk Collegiate 2",13,5,11,1,3,10,3,6,null,5,null,null,7,null,null,9,null,null,11,null,null,13,null,null,1,null,null,{"$f":"RANK(AF28,$AF$17:$AF$34,0)+COUNTIF($AF$17:AF28,AF28)-1","v":7},18,{"$f":"#VALUE!","v":{"$error":"#VALUE!"}},35,{"$f":"OFFSET(A$17,MATCH(LARGE(AC$17:AC$34,ROW() -ROW(AC$17)+1),AC$17:AC$34,0)-1,0)","v":"Norfolk Collegiate 2"},{"$f":"OFFSET(AF$17,MATCH(LARGE(AC$17:AC$34,ROW() -ROW(AC$17)+1),AC$17:AC$34,0)-1,0)","v":35}]
["Kecoughtan 2",14,10,9,2,8,2,4,4,null,6,null,null,15,null,null,10,null,null,12,null,null,14,null,null,2,null,null,{"$f":"RANK(AF29,$AF$17:$AF$34,0)+COUNTIF($AF$17:AF29,AF29)-1","v":11},18,{"$f":"#VALUE!","v":{"$error":"#VALUE!"}},33,{"$f":"OFFSET(A$17,MATCH(LARGE(AC$17:AC$34,ROW() -ROW(AC$17)+1),AC$17:AC$34,0)-1,0)","v":"Poquoson 2"},{"$f":"OFFSET(AF$17,MATCH(LARGE(AC$17:AC$34,ROW() -ROW(AC$17)+1),AC$17:AC$34,0)-1,0)","v":44}]
[{"$f":"'A Fleet Scoring'!A30","v":"Maury 2"},1,12,14,3,9,14,5,3,null,7,null,null,9,null,null,11,null,null,13,null,null,1,null,null,3,null,null,{"$f":"RANK(AF30,$AF$17:$AF$34,0)+COUNTIF($AF$17:AF30,AF30)-1","v":3},18,{"$f":"#VALUE!","v":{"$error":"#VALUE!"}},52,{"$f":"OFFSET(A$17,MATCH(LARGE(AC$17:AC$34,ROW() -ROW(AC$17)+1),AC$17:AC$34,0)-1,0)","v":"Smithfield HS"},{"$f":"OFFSET(AF$17,MATCH(LARGE(AC$17:AC$34,ROW() -ROW(AC$17)+1),AC$17:AC$34,0)-1,0)","v":48}]
[{"$f":"'A Fleet Scoring'!A31","v":0},null,null,null,null,null,null,null,null,null,null,null,null,null,null,null,null,null,null,null,null,null,null,null,null,null,null,null,{"$f":"RANK(AF31,$AF$17:$AF$34,0)+COUNTIF($AF$17:AF31,AF31)-1","v":15},18,{"$f":"#VALUE!","v":{"$error":"#VALUE!"}},0,{"$f":"OFFSET(A$17,MATCH(LARGE(AC$17:AC$34,ROW() -ROW(AC$17)+1),AC$17:AC$34,0)-1,0)","v":"Walsingham"},{"$f":"OFFSET(AF$17,MATCH(LARGE(AC$17:AC$34,ROW() -ROW(AC$17)+1),AC$17:AC$34,0)-1,0)","v":50}]
[{"$f":"'A Fleet Scoring'!A32","v":0},null,null,null,null,null,null,null,null,null,null,null,null,null,null,null,null,null,null,null,null,null,null,null,null,null,null,null,{"$f":"RANK(AF32,$AF$17:$AF$34,0)+COUNTIF($AF$17:AF32,AF32)-1","v":16},18,{"$f":"#VALUE!","v":{"$error":"#VALUE!"}},0,{"$f":"OFFSET(A$17,MATCH(LARGE(AC$17:AC$34,ROW() -ROW(AC$17)+1),AC$17:AC$34,0)-1,0)","v":"Maury 2"},{"$f":"OFFSET(AF$17,MATCH(LARGE(AC$17:AC$34,ROW() -ROW(AC$17)+1),AC$17:AC$34,0)-1,0)","v":52}]
[{"$f":"'A Fleet Scoring'!A33","v":0},null,null,null,null,null,null,null,null,null,null,null,null,null,null,null,null,null,null,null,null,null,null,null,null,null,null,null,{"$f":"RANK(AF33,$AF$17:$AF$34,0)+COUNTIF($AF$17:AF33,AF33)-1","v":17},18,{"$f":"#VALUE!","v":{"$error":"#VALUE!"}},0,{"$f":"OFFSET(A$17,MATCH(LARGE(AC$17:AC$34,ROW() -ROW(AC$17)+1),AC$17:AC$34,0)-1,0)","v":"Nansemond Suffolk"},{"$f":"OFFSET(AF$17,MATCH(LARGE(AC$17:AC$34,ROW() -ROW(AC$17)+1),AC$17:AC$34,0)-1,0)","v":52}]
[{"$f":"'A Fleet Scoring'!A34","v":0},null,null,null,null,null,null,null,null,null,null,null,null,null,null,null,null,null,null,null,null,null,null,null,null,null,null,null,{"$f":"RANK(AF34,$AF$17:$AF$34,0)+COUNTIF($AF$17:AF34,AF34)-1","v":18},18,{"$f":"#VALUE!","v":{"$error":"#VALUE!"}},0,{"$f":"OFFSET(A$17,MATCH(LARGE(AC$17:AC$34,ROW() -ROW(AC$17)+1),AC$17:AC$34,0)-1,0)","v":"Maury 1"},{"$f":"OFFSET(AF$17,MATCH(LARGE(AC$17:AC$34,ROW() -ROW(AC$17)+1),AC$17:AC$34,0)-1,0)","v":65}]
[]
[null,null,"DNS","Did Not Start",null,null,"Fleet +1",null,null,null,null,null,"DSQ","Disqualified",null,null,"Fleet + 1"]
[null,null,"DNF","Did Not Finish",null,null,"Fleet +1",null,null,null,null,null,"Protest throw out = DSQ"]
[null,null,"RET","Retired",null,null,"Fleet +1",null,null,null,null,null,"Redress "]
[]
[{"$f":"A17","v":"Norfolk Academy"},null,{"$f":"AF17","v":8},{"$f":"AF27","v":44},{"$f":"SUM(C40:D40)","v":52},null,null,null,null,null,null,null,null,null,null,null,null,null,null,null,null,null,null,null,null,null,null,null,{"$f":"RANK(E40,$E$40:$E$49,0)+COUNTIF($E$40:E40,E40)-1","v":{"$error":"#REF!"}},{"$f":"COUNT($E$40:$E$49)","v":8},{"$f":"(E40/MAX(ABS($E$40:$E$49)))+(C40/(10^(MAX(LEN($C$40:C$49)+(D40/(10^(MAX(LEN($D$40:D$49)+1))))))))","v":1.7229195789778409},null,{"$f":"OFFSET(A$40,MATCH(LARGE(AC$40:AC$49,ROW() -ROW(AC$40)+1),AC$40:AC$49,0)-1,0)","v":{"$error":"#REF!"}},{"$f":"OFFSET(E$40,MATCH(LARGE(AC$40:AC$49,ROW() -ROW(AC$40)+1),AC$40:AC$49,0)-1,0)","v":{"$error":"#REF!"}}]
["Poquoson 1",null,{"$f":"AF18","v":26},35,{"$f":"SUM(C41:D41)","v":61},null,null,null,null,null,null,null,null,null,null,null,null,null,null,null,null,null,null,null,null,null,null,null,{"$f":"RANK(E41,$E$40:$E$49,0)+COUNTIF($E$40:E41,E41)-1","v":{"$error":"#REF!"}},{"$f":"COUNT($E$40:$E$49)","v":8},{"$f":"(E41/MAX(ABS($E$40:$E$49)))+(C41/(10^(MAX(LEN($C$40:C$49)+(D41/(10^(MAX(LEN($D$40:D$49)+1))))))))","v":1.2398685710602382},null,{"$f":"OFFSET(A$40,MATCH(LARGE(AC$40:AC$49,ROW() -ROW(AC$40)+1),AC$40:AC$49,0)-1,0)","v":{"$error":"#REF!"}},{"$f":"OFFSET(E$40,MATCH(LARGE(AC$40:AC$49,ROW() -ROW(AC$40)+1),AC$40:AC$49,0)-1,0)","v":{"$error":"#REF!"}}]
["Walsingham",null,50,33,83,null,null,null,null,null,null,null,null,null,null,null,null,null,null,null,null,null,null,null,null,null,null,null,{"$f":"RANK(E42,$E$40:$E$49,0)+COUNTIF($E$40:E42,E42)-1","v":{"$error":"#REF!"}},8,{"$f":"(E42/MAX(ABS($E$40:$E$49)))+(C42/(10^(MAX(LEN($C$40:C$49)+(D42/(10^(MAX(LEN($D$40:D$49)+1))))))))","v":1.4634149116896744},null,{"$error":"#REF!"},{"$error":"#REF!"}]
["Norfolk Collegiate 1",null,12,52,64,null,null,null,null,null,null,null,null,null,null,null,null,null,null,null,null,null,null,null,null,null,null,null,{"$f":"RANK(E43,$E$40:$E$49,0)+COUNTIF($E$40:E43,E43)-1","v":{"$error":"#REF!"}},8,{"$f":"(E43/MAX(ABS($E$40:$E$49)))+(C43/(10^(MAX(LEN($C$40:C$49)+(D43/(10^(MAX(LEN($D$40:D$49)+1))))))))","v":1.1064587214445551},null,{"$error":"#REF!"},{"$error":"#REF!"}]
["Kecoughtan 1",null,33,0,33,null,null,null,null,null,null,null,null,null,null,null,null,null,null,null,null,null,null,null,null,null,null,null,{"$f":"RANK(E44,$E$40:$E$49,0)+COUNTIF($E$40:E44,E44)-1","v":{"$error":"#REF!"}},8,{"$f":"(E44/MAX(ABS($E$40:$E$49)))+(C44/(10^(MAX(LEN($C$40:C$49)+(D44/(10^(MAX(LEN($D$40:D$49)+1))))))))","v":1.33},null,{"$error":"#REF!"},{"$error":"#REF!"}]
["Maury 1",null,65,0,65,null,null,null,null,null,null,null,null,null,null,null,null,null,null,null,null,null,null,null,null,null,null,null,{"$f":"RANK(E45,$E$40:$E$49,0)+COUNTIF($E$40:E45,E45)-1","v":{"$error":"#REF!"}},8,{"$f":"(E45/MAX(ABS($E$40:$E$49)))+(C45/(10^(MAX(LEN($C$40:C$49)+(D45/(10^(MAX(LEN($D$40:D$49)+1))))))))","v":1.65},null,{"$error":"#REF!"},{"$error":"#REF!"}]
["Nansemond Suffolk",null,52,0,52,null,null,null,null,null,null,null,null,null,null,null,null,null,null,null,null,null,null,null,null,null,null,null,{"$f":"RANK(E46,$E$40:$E$49,0)+COUNTIF($E$40:E46,E46)-1","v":{"$error":"#REF!"}},8,{"$f":"(E46/MAX(ABS($E$40:$E$49)))+(C46/(10^(MAX(LEN($C$40:C$49)+(D46/(10^(MAX(LEN($D$40:D$49)+1))))))))","v":1.52},null,{"$error":"#REF!"},{"$error":"#REF!"}]
["Hampton/Phoebus",null,34,0,34,null,null,null,null,null,null,null,null,null,null,null,null,null,null,null,null,null,null,null,null,null,null,null,{"$f":"RANK(E47,$E$40:$E$49,0)+COUNTIF($E$40:E47,E47)-1","v":{"$error":"#REF!"}},8,{"$f":"(E47/MAX(ABS($E$40:$E$49)))+(C47/(10^(MAX(LEN($C$40:C$49)+(D47/(10^(MAX(LEN($D$40:D$49)+1))))))))","v":1.34},null,{"$error":"#REF!"},{"$error":"#REF!"}]
["Smithfield HS",null,48,{"$f":"#REF!","v":{"$error":"#REF!"}},{"$error":"#REF!"},null,null,null,null,null,null,null,null,null,null,null,null,null,null,null,null,null,null,null,null,null,null,null,{"$f":"RANK(E48,$E$40:$E$49,0)+COUNTIF($E$40:E48,E48)-1","v":{"$error":"#REF!"}},8,{"$f":"(E48/MAX(ABS($E$40:$E$49)))+(C48/(10^(MAX(LEN($C$40:C$49)+(D48/(10^(MAX(LEN($D$40:D$49)+1))))))))","v":{"$error":"#REF!"}},null,{"$error":"#REF!"},{"$error":"#REF!"}]
["HRA",null,33,{"$f":"#REF!","v":{"$error":"#REF!"}},{"$error":"#REF!"},null,null,null,null,null,null,null,null,null,null,null,null,null,null,null,null,null,null,null,null,null,null,null,{"$f":"RANK(E49,$E$40:$E$49,0)+COUNTIF($E$40:E49,E49)-1","v":{"$error":"#REF!"}},8,{"$f":"(E49/MAX(ABS($E$40:$E$49)))+(C49/(10^(MAX(LEN($C$40:C$49)+(D49/(10^(MAX(LEN($D$40:D$49)+1))))))))","v":{"$error":"#REF!"}},null,{"$error":"#REF!"},{"$error":"#REF!"}]
[]
[]
["First set 3 races, second set 2 races."]

{"sheet":"Team Results","index":2,"n_rows":41,"n_cols":15,"rows_kept":41,"cut":false,"hidden":false,"merged":[[0,0,0,12]]}
[{"$f":"'A Fleet Scoring'!$A$1","v":"Host: PHS/WA       Event: VISA FLEET RACE       Location: NYCC          Date: March 16, 2013"}]
[]
[null,null,null,"A FLEET","TP",null,"B FLEET","TP",null,"A / B FLEET COMBINE","TP"]
[null,null,1,{"$f":"'A Fleet Scoring'!AG17","v":0},{"$f":"'A Fleet Scoring'!AH17","v":0},1,{"$f":"'B Fleet Scoring'!AG17","v":0},{"$f":"'B Fleet Scoring'!AH17","v":0},1,{"$f":"N24","v":0},{"$f":"O24","v":0}]
[null,null,2,{"$f":"'A Fleet Scoring'!AG18","v":0},{"$f":"'A Fleet Scoring'!AH18","v":0},2,{"$f":"'B Fleet Scoring'!AG18","v":0},{"$f":"'B Fleet Scoring'!AH18","v":0},2,{"$f":"N25","v":0},{"$f":"O25","v":0}]
[null,null,3,{"$f":"'A Fleet Scoring'!AG19","v":0},{"$f":"'A Fleet Scoring'!AH19","v":0},3,{"$f":"'B Fleet Scoring'!AG19","v":0},{"$f":"'B Fleet Scoring'!AH19","v":0},3,0,0]
[null,null,4,{"$f":"'A Fleet Scoring'!AG20","v":0},{"$f":"'A Fleet Scoring'!AH20","v":0},4,{"$f":"'B Fleet Scoring'!AG20","v":0},{"$f":"'B Fleet Scoring'!AH20","v":0},4,0,0]
[null,null,5,{"$f":"'A Fleet Scoring'!AG21","v":"Poquoson 1"},{"$f":"'A Fleet Scoring'!AH21","v":12},5,{"$f":"'B Fleet Scoring'!AG21","v":"Norfolk Academy"},{"$f":"'B Fleet Scoring'!AH21","v":8},5,"Norfolk Academy",30]
[null,null,6,{"$f":"'A Fleet Scoring'!AG22","v":"Norfolk Collegiate 1"},{"$f":"'A Fleet Scoring'!AH22","v":22},6,{"$f":"'B Fleet Scoring'!AG22","v":"Norfolk Collegiate 1"},{"$f":"'B Fleet Scoring'!AH22","v":12},6,"Norfolk Collegiate 1",34]
[null,null,7,{"$f":"'A Fleet Scoring'!AG23","v":"Norfolk Academy"},{"$f":"'A Fleet Scoring'!AH23","v":22},7,{"$f":"'B Fleet Scoring'!AG23","v":"Poquoson 1"},{"$f":"'B Fleet Scoring'!AH23","v":26},7,"Poquoson 1",38]
[null,null,8,{"$f":"'A Fleet Scoring'!AG24","v":"Walsingham"},{"$f":"'A Fleet Scoring'!AH24","v":23},8,{"$f":"'B Fleet Scoring'!AG24","v":"Kecoughtan 2"},{"$f":"'B Fleet Scoring'!AH24","v":33},8,"Kecoughtan 1",61]
[null,null,9,{"$f":"'A Fleet Scoring'!AG25","v":"Norfolk Collegiate 2"},{"$f":"'A Fleet Scoring'!AH25","v":28},9,{"$f":"'B Fleet Scoring'!AG25","v":"HRA"},{"$f":"'B Fleet Scoring'!AH25","v":33},9,"Norfolk Collegiate 2",63]
[null,null,10,{"$f":"'A Fleet Scoring'!AG26","v":"Kecoughtan 1"},{"$f":"'A Fleet Scoring'!AH26","v":28},10,{"$f":"'B Fleet Scoring'!AG26","v":"Kecoughtan 1"},{"$f":"'B Fleet Scoring'!AH26","v":33},10,"Hampton/Phoebus",64]
[null,null,11,{"$f":"'A Fleet Scoring'!AG27","v":"Hampton/Phoebus"},{"$f":"'A Fleet Scoring'!AH27","v":30},11,{"$f":"'B Fleet Scoring'!AG27","v":"Hampton/Phoebus"},{"$f":"'B Fleet Scoring'!AH27","v":34},11,"Walsingham",73]
[null,null,12,{"$f":"'A Fleet Scoring'!AG28","v":"Maury 1"},{"$f":"'A Fleet Scoring'!AH28","v":31},12,{"$f":"'B Fleet Scoring'!AG28","v":"Norfolk Collegiate 2"},{"$f":"'B Fleet Scoring'!AH28","v":35},12,"Kecoughtan 2",74]
[null,null,13,{"$f":"'A Fleet Scoring'!AG29","v":"Kecoughtan 2"},{"$f":"'A Fleet Scoring'!AH29","v":41},13,{"$f":"'B Fleet Scoring'!AG29","v":"Poquoson 2"},{"$f":"'B Fleet Scoring'!AH29","v":44},13,"HRA",86]
[null,null,14,{"$f":"'A Fleet Scoring'!AG30","v":"Poquoson 2"},{"$f":"'A Fleet Scoring'!AH30","v":50},14,{"$f":"'B Fleet Scoring'!AG30","v":"Smithfield HS"},{"$f":"'B Fleet Scoring'!AH30","v":48},14,"Poquoson 2",94]
[null,null,15,{"$f":"'A Fleet Scoring'!AG31","v":"Maury 2"},{"$f":"'A Fleet Scoring'!AH31","v":53},15,{"$f":"'B Fleet Scoring'!AG31","v":"Walsingham"},{"$f":"'B Fleet Scoring'!AH31","v":50},15,"Maury 1",96]
[null,null,16,{"$f":"'A Fleet Scoring'!AG32","v":"HRA"},{"$f":"'A Fleet Scoring'!AH32","v":53},16,{"$f":"'B Fleet Scoring'!AG32","v":"Maury 2"},{"$f":"'B Fleet Scoring'!AH32","v":52},16,"Maury 2",105]
[null,null,17,{"$f":"'A Fleet Scoring'!AG33","v":"Nansemnd Suffolk"},{"$f":"'A Fleet Scoring'!AH33","v":63},17,{"$f":"'B Fleet Scoring'!AG33","v":"Nansemond Suffolk"},{"$f":"'B Fleet Scoring'!AH33","v":52},17,"Nansemnd Suffolk",115]
[null,null,18,{"$f":"'A Fleet Scoring'!AG34","v":"Smithfield HS"},{"$f":"'A Fleet Scoring'!AH34","v":69},18,{"$f":"'B Fleet Scoring'!AG34","v":"Maury 1"},{"$f":"'B Fleet Scoring'!AH34","v":65},18,"Smithfield HS",117]
[]
[]
[null,{"$f":"'A Fleet Scoring'!A17","v":"Norfolk Academy"},null,null,null,null,null,null,null,{"$f":"COUNT($M$24:$M$41)","v":18},{"$f":"RANK(M24,$M$24:$M$41,0)+COUNTIF($M$24:M24,M24)-1","v":14},{"$f":"(M24/MAX(ABS($M$24:$M$41)))+1","v":2},{"$f":"SUM('A Fleet Scoring'!AF17)+('B Fleet Scoring'!AF17)","v":30},{"$f":"OFFSET(B$24,MATCH(LARGE(K$24:K$41,ROW() -ROW(K$24)+1),K$24:K$41,0)-1,0)","v":0},{"$f":"OFFSET(M$24,MATCH(SMALL(M$24:M$41,ROW() -ROW(M$24)+1),M$24:M$41,0)-1,0)","v":0}]
[null,{"$f":"'A Fleet Scoring'!A18","v":"Poquoson 1"},null,null,null,null,null,null,null,{"$f":"COUNT($M$24:$M$41)","v":18},{"$f":"RANK(M25,$M$24:$M$41,0)+COUNTIF($M$24:M25,M25)-1","v":12},{"$f":"(M25/MAX(ABS($M$24:$M$41)))+1","v":2},{"$f":"SUM('A Fleet Scoring'!AF18)+('B Fleet Scoring'!AF18)","v":38},{"$f":"OFFSET(B$24,MATCH(LARGE(K$24:K$41,ROW() -ROW(K$24)+1),K$24:K$41,0)-1,0)","v":0},{"$f":"OFFSET(M$24,MATCH(SMALL(M$24:M$41,ROW() -ROW(M$24)+1),M$24:M$41,0)-1,0)","v":0}]
[null,{"$f":"'A Fleet Scoring'!A19","v":"Walsingham"},null,null," ",null,null,null,null,18,{"$f":"RANK(M26,$M$24:$M$41,0)+COUNTIF($M$24:M26,M26)-1","v":8},2,{"$f":"SUM('A Fleet Scoring'!AF19)+('B Fleet Scoring'!AF19)","v":73},0,0]
[null,{"$f":"'A Fleet Scoring'!A20","v":"Norfolk Collegiate 1"},null,null,null,null,null,null,null,18,{"$f":"RANK(M27,$M$24:$M$41,0)+COUNTIF($M$24:M27,M27)-1","v":13},2,{"$f":"SUM('A Fleet Scoring'!AF20)+('B Fleet Scoring'!AF20)","v":34},0,0]
[null,{"$f":"'A Fleet Scoring'!A21","v":"Kecoughtan 1"},null,null,null,null,null,null,null,18,{"$f":"RANK(M28,$M$24:$M$41,0)+COUNTIF($M$24:M28,M28)-1","v":11},2,{"$f":"SUM('A Fleet Scoring'!AF21)+('B Fleet Scoring'!AF21)","v":61},"Norfolk Academy",30]
[null,{"$f":"'A Fleet Scoring'!A22","v":"Maury 1"},null,null,null,null,null,null,null,18,{"$f":"RANK(M29,$M$24:$M$41,0)+COUNTIF($M$24:M29,M29)-1","v":4},2,{"$f":"SUM('A Fleet Scoring'!AF22)+('B Fleet Scoring'!AF22)","v":96},"Norfolk Collegiate 1",34]
[null,{"$f":"'A Fleet Scoring'!A23","v":"Nansemnd Suffolk"},null,null,null,null,null,null,null,18,{"$f":"RANK(M30,$M$24:$M$41,0)+COUNTIF($M$24:M30,M30)-1","v":2},2,{"$f":"SUM('A Fleet Scoring'!AF23)+('B Fleet Scoring'!AF23)","v":115},"Poquoson 1",38]
[null,{"$f":"'A Fleet Scoring'!A24","v":"Hampton/Phoebus"},null,null,null,null,null,null,null,18,{"$f":"RANK(M31,$M$24:$M$41,0)+COUNTIF($M$24:M31,M31)-1","v":9},2,{"$f":"SUM('A Fleet Scoring'!AF24)+('B Fleet Scoring'!AF24)","v":64},"Kecoughtan 1",61]
[null,{"$f":"'A Fleet Scoring'!A25","v":"Smithfield HS"},null,null,null,null,null,null,null,18,{"$f":"RANK(M32,$M$24:$M$41,0)+COUNTIF($M$24:M32,M32)-1","v":1},2,{"$f":"SUM('A Fleet Scoring'!AF25)+('B Fleet Scoring'!AF25)","v":117},"Norfolk Collegiate 2",63]
[null,{"$f":"'A Fleet Scoring'!A26","v":"HRA"},null,null,null,null,null,null,null,18,{"$f":"RANK(M33,$M$24:$M$41,0)+COUNTIF($M$24:M33,M33)-1","v":6},2,{"$f":"SUM('A Fleet Scoring'!AF26)+('B Fleet Scoring'!AF26)","v":86},"Hampton/Phoebus",64]
[null,{"$f":"'A Fleet Scoring'!A27","v":"Poquoson 2"},null,null,null,null,null,null,null,18,{"$f":"RANK(M34,$M$24:$M$41,0)+COUNTIF($M$24:M34,M34)-1","v":5},2,{"$f":"SUM('A Fleet Scoring'!AF27)+('B Fleet Scoring'!AF27)","v":94},"Walsingham",73]
[null,{"$f":"'A Fleet Scoring'!A28","v":"Norfolk Collegiate 2"},null,null,null,null,null,null,null,18,{"$f":"RANK(M35,$M$24:$M$41,0)+COUNTIF($M$24:M35,M35)-1","v":10},2,{"$f":"SUM('A Fleet Scoring'!AF28)+('B Fleet Scoring'!AF28)","v":63},"Kecoughtan 2",74]
[null,{"$f":"'A Fleet Scoring'!A29","v":"Kecoughtan 2"},null,null,null,null,null,null,null,18,{"$f":"RANK(M36,$M$24:$M$41,0)+COUNTIF($M$24:M36,M36)-1","v":7},2,{"$f":"SUM('A Fleet Scoring'!AF29)+('B Fleet Scoring'!AF29)","v":74},"HRA",86]
[null,{"$f":"'A Fleet Scoring'!A30","v":"Maury 2"},null,null,null,null,null,null,null,18,{"$f":"RANK(M37,$M$24:$M$41,0)+COUNTIF($M$24:M37,M37)-1","v":3},2,{"$f":"SUM('A Fleet Scoring'!AF30)+('B Fleet Scoring'!AF30)","v":105},"Poquoson 2",94]
[null,{"$f":"'A Fleet Scoring'!A31","v":0},null,null,null,null,null,null,null,18,{"$f":"RANK(M38,$M$24:$M$41,0)+COUNTIF($M$24:M38,M38)-1","v":15},{"$error":"#DIV/0!"},{"$f":"SUM('A Fleet Scoring'!AF31)+('B Fleet Scoring'!AF31)","v":0},"Maury 1",96]
[null,{"$f":"'A Fleet Scoring'!A32","v":0},null,null,null,null,null,null,null,18,{"$f":"RANK(M39,$M$24:$M$41,0)+COUNTIF($M$24:M39,M39)-1","v":16},{"$error":"#DIV/0!"},{"$f":"SUM('A Fleet Scoring'!AF32)+('B Fleet Scoring'!AF32)","v":0},"Maury 2",105]
[null,{"$f":"'A Fleet Scoring'!A33","v":0},null,null,null,null,null,null,null,18,{"$f":"RANK(M40,$M$24:$M$41,0)+COUNTIF($M$24:M40,M40)-1","v":17},{"$error":"#DIV/0!"},{"$f":"SUM('A Fleet Scoring'!AF33)+('B Fleet Scoring'!AF33)","v":0},"Nansemnd Suffolk",115]
[null,{"$f":"'A Fleet Scoring'!A34","v":0},null,null,null,null,null,null,null,18,{"$f":"RANK(M41,$M$24:$M$41,0)+COUNTIF($M$24:M41,M41)-1","v":18},{"$error":"#DIV/0!"},{"$f":"SUM('A Fleet Scoring'!AF34)+('B Fleet Scoring'!AF34)","v":0},"Smithfield HS",117]

{"sheet":"Finishes","index":3,"n_rows":42,"n_cols":28,"rows_kept":42,"cut":false,"hidden":false,"merged":[[0,0,0,27],[1,2,1,3],[1,5,1,6],[1,8,1,9],[1,11,1,12],[1,14,1,15],[1,23,1,24],[1,26,1,27],[1,20,1,21],[22,2,22,3],[22,5,22,6],[22,8,22,9],[22,11,22,12],[22,14,22,15],[22,17,22,18],[22,20,22,21],[22,23,22,24],[22,26,22,27],[1,17,1,18]]}
[{"$f":"'A Fleet Scoring'!$A$1","v":"Host: PHS/WA       Event: VISA FLEET RACE       Location: NYCC          Date: March 16, 2013"}]
[{"$f":"'A Fleet Scoring'!A15","v":"A Fleet"},{"$f":"'A Fleet Scoring'!B15","v":"Sail"},{"$f":"'A Fleet Scoring'!C15","v":"Fleet/Race"},null,{"$f":"'A Fleet Scoring'!E15","v":"Sail"},{"$f":"'A Fleet Scoring'!F15","v":"Fleet/Race"},null,{"$f":"'A Fleet Scoring'!H15","v":"Sail"},{"$f":"'A Fleet Scoring'!I15","v":"Fleet/Race"},null,{"$f":"'A Fleet Scoring'!K15","v":"Sail"},{"$f":"'A Fleet Scoring'!L15","v":"Fleet/Race"},null,{"$f":"'A Fleet Scoring'!N15","v":"Sail"},{"$f":"'A Fleet Scoring'!O15","v":"Fleet/Race"},null,{"$f":"'A Fleet Scoring'!Q15","v":"Sail"},{"$f":"'A Fleet Scoring'!R15","v":"Fleet/Race"},null,{"$f":"'A Fleet Scoring'!T15","v":"Sail"},{"$f":"'A Fleet Scoring'!U15","v":"Fleet/Race"},null,{"$f":"'A Fleet Scoring'!W15","v":"Sail"},{"$f":"'A Fleet Scoring'!X15","v":"Fleet/Race"},null,{"$f":"'A Fleet Scoring'!Z15","v":"Sail"},{"$f":"'A Fleet Scoring'!AA15","v":"Fleet/Race"}]
[{"$f":"'A Fleet Scoring'!A16","v":"School"},{"$f":"'A Fleet Scoring'!B16","v":"Boat"},{"$f":"'A Fleet Scoring'!C16","v":1},{"$f":"'A Fleet Scoring'!D16","v":2},{"$f":"'A Fleet Scoring'!E16","v":"Boat"},{"$f":"'A Fleet Scoring'!F16","v":3},{"$f":"'A Fleet Scoring'!G16","v":4},{"$f":"'A Fleet Scoring'!H16","v":"Boat"},{"$f":"'A Fleet Scoring'!I16","v":5},{"$f":"'A Fleet Scoring'!J16","v":6},{"$f":"'A Fleet Scoring'!K16","v":"Boat"},{"$f":"'A Fleet Scoring'!L16","v":7},{"$f":"'A Fleet Scoring'!M16","v":8},{"$f":"'A Fleet Scoring'!N16","v":"Boat"},{"$f":"'A Fleet Scoring'!O16","v":9},{"$f":"'A Fleet Scoring'!P16","v":10},{"$f":"'A Fleet Scoring'!Q16","v":"Boat"},{"$f":"'A Fleet Scoring'!R16","v":11},{"$f":"'A Fleet Scoring'!S16","v":12},{"$f":"'A Fleet Scoring'!T16","v":"Boat"},{"$f":"'A Fleet Scoring'!U16","v":13},{"$f":"'A Fleet Scoring'!V16","v":14},{"$f":"'A Fleet Scoring'!W16","v":"Boat"},{"$f":"'A Fleet Scoring'!X16","v":15},{"$f":"'A Fleet Scoring'!Y16","v":16},{"$f":"'A Fleet Scoring'!Z16","v":"Boat"},{"$f":"'A Fleet Scoring'!AA16","v":17},{"$f":"'A Fleet Scoring'!AB16","v":18}]
[{"$f":"'A Fleet Scoring'!A17","v":"Norfolk Academy"},{"$f":"'A Fleet Scoring'!B17","v":1},{"$f":"'A Fleet Scoring'!C17","v":2},{"$f":"'A Fleet Scoring'!D17","v":4},{"$f":"'A Fleet Scoring'!E17","v":3},{"$f":"'A Fleet Scoring'!F17","v":8},{"$f":"'A Fleet Scoring'!G17","v":5},{"$f":"'A Fleet Scoring'!H17","v":5},{"$f":"'A Fleet Scoring'!I17","v":3},{"$f":"'A Fleet Scoring'!J17","v":0},{"$f":"'A Fleet Scoring'!K17","v":7},{"$f":"'A Fleet Scoring'!L17","v":0},{"$f":"'A Fleet Scoring'!M17","v":0},{"$f":"'A Fleet Scoring'!N17","v":9},{"$f":"'A Fleet Scoring'!O17","v":0},{"$f":"'A Fleet Scoring'!P17","v":0},{"$f":"'A Fleet Scoring'!Q17","v":11},{"$f":"'A Fleet Scoring'!R17","v":0},{"$f":"'A Fleet Scoring'!S17","v":0},{"$f":"'A Fleet Scoring'!T17","v":13},{"$f":"'A Fleet Scoring'!U17","v":0},{"$f":"'A Fleet Scoring'!V17","v":0},{"$f":"'A Fleet Scoring'!W17","v":1},{"$f":"'A Fleet Scoring'!X17","v":0},{"$f":"'A Fleet Scoring'!Y17","v":0},{"$f":"'A Fleet Scoring'!Z17","v":3},{"$f":"'A Fleet Scoring'!AA17","v":0},{"$f":"'A Fleet Scoring'!AB17","v":0}]
[{"$f":"'A Fleet Scoring'!A18","v":"Poquoson 1"},{"$f":"'A Fleet Scoring'!B18","v":2},{"$f":"'A Fleet Scoring'!C18","v":3},{"$f":"'A Fleet Scoring'!D18","v":1},{"$f":"'A Fleet Scoring'!E18","v":4},{"$f":"'A Fleet Scoring'!F18","v":5},{"$f":"'A Fleet Scoring'!G18","v":2},{"$f":"'A Fleet Scoring'!H18","v":6},{"$f":"'A Fleet Scoring'!I18","v":1},{"$f":"'A Fleet Scoring'!J18","v":0},{"$f":"'A Fleet Scoring'!K18","v":15},{"$f":"'A Fleet Scoring'!L18","v":0},{"$f":"'A Fleet Scoring'!M18","v":0},{"$f":"'A Fleet Scoring'!N18","v":10},{"$f":"'A Fleet Scoring'!O18","v":0},{"$f":"'A Fleet Scoring'!P18","v":0},{"$f":"'A Fleet Scoring'!Q18","v":12},{"$f":"'A Fleet Scoring'!R18","v":0},{"$f":"'A Fleet Scoring'!S18","v":0},{"$f":"'A Fleet Scoring'!T18","v":14},{"$f":"'A Fleet Scoring'!U18","v":0},{"$f":"'A Fleet Scoring'!V18","v":0},{"$f":"'A Fleet Scoring'!W18","v":2},{"$f":"'A Fleet Scoring'!X18","v":0},{"$f":"'A Fleet Scoring'!Y18","v":0},{"$f":"'A Fleet Scoring'!Z18","v":4},{"$f":"'A Fleet Scoring'!AA18","v":0},{"$f":"'A Fleet Scoring'!AB18","v":0}]
[{"$f":"'A Fleet Scoring'!A19","v":"Walsingham"},{"$f":"'A Fleet Scoring'!B19","v":3},{"$f":"'A Fleet Scoring'!C19","v":1},{"$f":"'A Fleet Scoring'!D19","v":2},{"$f":"'A Fleet Scoring'!E19","v":5},{"$f":"'A Fleet Scoring'!F19","v":3},{"$f":"'A Fleet Scoring'!G19","v":11},{"$f":"'A Fleet Scoring'!H19","v":7},{"$f":"'A Fleet Scoring'!I19","v":6},{"$f":"'A Fleet Scoring'!J19","v":0},{"$f":"'A Fleet Scoring'!K19","v":9},{"$f":"'A Fleet Scoring'!L19","v":0},{"$f":"'A Fleet Scoring'!M19","v":0},{"$f":"'A Fleet Scoring'!N19","v":11},{"$f":"'A Fleet Scoring'!O19","v":0},{"$f":"'A Fleet Scoring'!P19","v":0},{"$f":"'A Fleet Scoring'!Q19","v":13},{"$f":"'A Fleet Scoring'!R19","v":0},{"$f":"'A Fleet Scoring'!S19","v":0},{"$f":"'A Fleet Scoring'!T19","v":1},{"$f":"'A Fleet Scoring'!U19","v":0},{"$f":"'A Fleet Scoring'!V19","v":0},{"$f":"'A Fleet Scoring'!W19","v":3},{"$f":"'A Fleet Scoring'!X19","v":0},{"$f":"'A Fleet Scoring'!Y19","v":0},{"$f":"'A Fleet Scoring'!Z19","v":5},{"$f":"'A Fleet Scoring'!AA19","v":0},{"$f":"'A Fleet Scoring'!AB19","v":0}]
[{"$f":"'A Fleet Scoring'!A20","v":"Norfolk Collegiate 1"},{"$f":"'A Fleet Scoring'!B20","v":4},{"$f":"'A Fleet Scoring'!C20","v":7},{"$f":"'A Fleet Scoring'!D20","v":3},{"$f":"'A Fleet Scoring'!E20","v":6},{"$f":"'A Fleet Scoring'!F20","v":2},{"$f":"'A Fleet Scoring'!G20","v":8},{"$f":"'A Fleet Scoring'!H20","v":15},{"$f":"'A Fleet Scoring'!I20","v":2},{"$f":"'A Fleet Scoring'!J20","v":0},{"$f":"'A Fleet Scoring'!K20","v":10},{"$f":"'A Fleet Scoring'!L20","v":0},{"$f":"'A Fleet Scoring'!M20","v":0},{"$f":"'A Fleet Scoring'!N20","v":12},{"$f":"'A Fleet Scoring'!O20","v":0},{"$f":"'A Fleet Scoring'!P20","v":0},{"$f":"'A Fleet Scoring'!Q20","v":14},{"$f":"'A Fleet Scoring'!R20","v":0},{"$f":"'A Fleet Scoring'!S20","v":0},{"$f":"'A Fleet Scoring'!T20","v":2},{"$f":"'A Fleet Scoring'!U20","v":0},{"$f":"'A Fleet Scoring'!V20","v":0},{"$f":"'A Fleet Scoring'!W20","v":4},{"$f":"'A Fleet Scoring'!X20","v":0},{"$f":"'A Fleet Scoring'!Y20","v":0},{"$f":"'A Fleet Scoring'!Z20","v":6},{"$f":"'A Fleet Scoring'!AA20","v":0},{"$f":"'A Fleet Scoring'!AB20","v":0}]
[{"$f":"'A Fleet Scoring'!A21","v":"Kecoughtan 1"},{"$f":"'A Fleet Scoring'!B21","v":5},{"$f":"'A Fleet Scoring'!C21","v":5},{"$f":"'A Fleet Scoring'!D21","v":5},{"$f":"'A Fleet Scoring'!E21","v":7},{"$f":"'A Fleet Scoring'!F21","v":4},{"$f":"'A Fleet Scoring'!G21","v":4},{"$f":"'A Fleet Scoring'!H21","v":9},{"$f":"'A Fleet Scoring'!I21","v":10},{"$f":"'A Fleet Scoring'!J21","v":0},{"$f":"'A Fleet Scoring'!K21","v":11},{"$f":"'A Fleet Scoring'!L21","v":0},{"$f":"'A Fleet Scoring'!M21","v":0},{"$f":"'A Fleet Scoring'!N21","v":13},{"$f":"'A Fleet Scoring'!O21","v":0},{"$f":"'A Fleet Scoring'!P21","v":0},{"$f":"'A Fleet Scoring'!Q21","v":1},{"$f":"'A Fleet Scoring'!R21","v":0},{"$f":"'A Fleet Scoring'!S21","v":0},{"$f":"'A Fleet Scoring'!T21","v":3},{"$f":"'A Fleet Scoring'!U21","v":0},{"$f":"'A Fleet Scoring'!V21","v":0},{"$f":"'A Fleet Scoring'!W21","v":5},{"$f":"'A Fleet Scoring'!X21","v":0},{"$f":"'A Fleet Scoring'!Y21","v":0},{"$f":"'A Fleet Scoring'!Z21","v":7},{"$f":"'A Fleet Scoring'!AA21","v":0},{"$f":"'A Fleet Scoring'!AB21","v":0}]
[{"$f":"'A Fleet Scoring'!A22","v":"Maury 1"},{"$f":"'A Fleet Scoring'!B22","v":6},{"$f":"'A Fleet Scoring'!C22","v":6},{"$f":"'A Fleet Scoring'!D22","v":9},{"$f":"'A Fleet Scoring'!E22","v":15},{"$f":"'A Fleet Scoring'!F22","v":1},{"$f":"'A Fleet Scoring'!G22","v":10},{"$f":"'A Fleet Scoring'!H22","v":10},{"$f":"'A Fleet Scoring'!I22","v":5},{"$f":"'A Fleet Scoring'!J22","v":0},{"$f":"'A Fleet Scoring'!K22","v":12},{"$f":"'A Fleet Scoring'!L22","v":0},{"$f":"'A Fleet Scoring'!M22","v":0},{"$f":"'A Fleet Scoring'!N22","v":14},{"$f":"'A Fleet Scoring'!O22","v":0},{"$f":"'A Fleet Scoring'!P22","v":0},{"$f":"'A Fleet Scoring'!Q22","v":2},{"$f":"'A Fleet Scoring'!R22","v":0},{"$f":"'A Fleet Scoring'!S22","v":0},{"$f":"'A Fleet Scoring'!T22","v":4},{"$f":"'A Fleet Scoring'!U22","v":0},{"$f":"'A Fleet Scoring'!V22","v":0},{"$f":"'A Fleet Scoring'!W22","v":6},{"$f":"'A Fleet Scoring'!X22","v":0},{"$f":"'A Fleet Scoring'!Y22","v":0},{"$f":"'A Fleet Scoring'!Z22","v":15},{"$f":"'A Fleet Scoring'!AA22","v":0},{"$f":"'A Fleet Scoring'!AB22","v":0}]
[{"$f":"'A Fleet Scoring'!A23","v":"Nansemnd Suffolk"},{"$f":"'A Fleet Scoring'!B23","v":7},{"$f":"'A Fleet Scoring'!C23","v":13},{"$f":"'A Fleet Scoring'!D23","v":14},{"$f":"'A Fleet Scoring'!E23","v":9},{"$f":"'A Fleet Scoring'!F23","v":10},{"$f":"'A Fleet Scoring'!G23","v":13},{"$f":"'A Fleet Scoring'!H23","v":11},{"$f":"'A Fleet Scoring'!I23","v":13},{"$f":"'A Fleet Scoring'!J23","v":0},{"$f":"'A Fleet Scoring'!K23","v":13},{"$f":"'A Fleet Scoring'!L23","v":0},{"$f":"'A Fleet Scoring'!M23","v":0},{"$f":"'A Fleet Scoring'!N23","v":1},{"$f":"'A Fleet Scoring'!O23","v":0},{"$f":"'A Fleet Scoring'!P23","v":0},{"$f":"'A Fleet Scoring'!Q23","v":3},{"$f":"'A Fleet Scoring'!R23","v":0},{"$f":"'A Fleet Scoring'!S23","v":0},{"$f":"'A Fleet Scoring'!T23","v":5},{"$f":"'A Fleet Scoring'!U23","v":0},{"$f":"'A Fleet Scoring'!V23","v":0},{"$f":"'A Fleet Scoring'!W23","v":7},{"$f":"'A Fleet Scoring'!X23","v":0},{"$f":"'A Fleet Scoring'!Y23","v":0},{"$f":"'A Fleet Scoring'!Z23","v":9},{"$f":"'A Fleet Scoring'!AA23","v":0},{"$f":"'A Fleet Scoring'!AB23","v":0}]
[{"$f":"'A Fleet Scoring'!A24","v":"Hampton/Phoebus"},{"$f":"'A Fleet Scoring'!B24","v":15},{"$f":"'A Fleet Scoring'!C24","v":8},{"$f":"'A Fleet Scoring'!D24","v":8},{"$f":"'A Fleet Scoring'!E24","v":10},{"$f":"'A Fleet Scoring'!F24","v":6},{"$f":"'A Fleet Scoring'!G24","v":1},{"$f":"'A Fleet Scoring'!H24","v":12},{"$f":"'A Fleet Scoring'!I24","v":7},{"$f":"'A Fleet Scoring'!J24","v":0},{"$f":"'A Fleet Scoring'!K24","v":14},{"$f":"'A Fleet Scoring'!L24","v":0},{"$f":"'A Fleet Scoring'!M24","v":0},{"$f":"'A Fleet Scoring'!N24","v":2},{"$f":"'A Fleet Scoring'!O24","v":0},{"$f":"'A Fleet Scoring'!P24","v":0},{"$f":"'A Fleet Scoring'!Q24","v":4},{"$f":"'A Fleet Scoring'!R24","v":0},{"$f":"'A Fleet Scoring'!S24","v":0},{"$f":"'A Fleet Scoring'!T24","v":6},{"$f":"'A Fleet Scoring'!U24","v":0},{"$f":"'A Fleet Scoring'!V24","v":0},{"$f":"'A Fleet Scoring'!W24","v":15},{"$f":"'A Fleet Scoring'!X24","v":0},{"$f":"'A Fleet Scoring'!Y24","v":0},{"$f":"'A Fleet Scoring'!Z24","v":10},{"$f":"'A Fleet Scoring'!AA24","v":0},{"$f":"'A Fleet Scoring'!AB24","v":0}]
[{"$f":"'A Fleet Scoring'!A25","v":"Smithfield HS"},{"$f":"'A Fleet Scoring'!B25","v":9},{"$f":"'A Fleet Scoring'!C25","v":14},{"$f":"'A Fleet Scoring'!D25","v":13},{"$f":"'A Fleet Scoring'!E25","v":11},{"$f":"'A Fleet Scoring'!F25","v":14},{"$f":"'A Fleet Scoring'!G25","v":14},{"$f":"'A Fleet Scoring'!H25","v":13},{"$f":"'A Fleet Scoring'!I25","v":14},{"$f":"'A Fleet Scoring'!J25","v":0},{"$f":"'A Fleet Scoring'!K25","v":1},{"$f":"'A Fleet Scoring'!L25","v":0},{"$f":"'A Fleet Scoring'!M25","v":0},{"$f":"'A Fleet Scoring'!N25","v":3},{"$f":"'A Fleet Scoring'!O25","v":0},{"$f":"'A Fleet Scoring'!P25","v":0},{"$f":"'A Fleet Scoring'!Q25","v":5},{"$f":"'A Fleet Scoring'!R25","v":0},{"$f":"'A Fleet Scoring'!S25","v":0},{"$f":"'A Fleet Scoring'!T25","v":7},{"$f":"'A Fleet Scoring'!U25","v":0},{"$f":"'A Fleet Scoring'!V25","v":0},{"$f":"'A Fleet Scoring'!W25","v":9},{"$f":"'A Fleet Scoring'!X25","v":0},{"$f":"'A Fleet Scoring'!Y25","v":0},{"$f":"'A Fleet Scoring'!Z25","v":11},{"$f":"'A Fleet Scoring'!AA25","v":0},{"$f":"'A Fleet Scoring'!AB25","v":0}]
[{"$f":"'A Fleet Scoring'!A26","v":"HRA"},{"$f":"'A Fleet Scoring'!B26","v":10},{"$f":"'A Fleet Scoring'!C26","v":10},{"$f":"'A Fleet Scoring'!D26","v":11},{"$f":"'A Fleet Scoring'!E26","v":12},{"$f":"'A Fleet Scoring'!F26","v":13},{"$f":"'A Fleet Scoring'!G26","v":7},{"$f":"'A Fleet Scoring'!H26","v":14},{"$f":"'A Fleet Scoring'!I26","v":12},{"$f":"'A Fleet Scoring'!J26","v":0},{"$f":"'A Fleet Scoring'!K26","v":2},{"$f":"'A Fleet Scoring'!L26","v":0},{"$f":"'A Fleet Scoring'!M26","v":0},{"$f":"'A Fleet Scoring'!N26","v":4},{"$f":"'A Fleet Scoring'!O26","v":0},{"$f":"'A Fleet Scoring'!P26","v":0},{"$f":"'A Fleet Scoring'!Q26","v":6},{"$f":"'A Fleet Scoring'!R26","v":0},{"$f":"'A Fleet Scoring'!S26","v":0},{"$f":"'A Fleet Scoring'!T26","v":15},{"$f":"'A Fleet Scoring'!U26","v":0},{"$f":"'A Fleet Scoring'!V26","v":0},{"$f":"'A Fleet Scoring'!W26","v":10},{"$f":"'A Fleet Scoring'!X26","v":0},{"$f":"'A Fleet Scoring'!Y26","v":0},{"$f":"'A Fleet Scoring'!Z26","v":12},{"$f":"'A Fleet Scoring'!AA26","v":0},{"$f":"'A Fleet Scoring'!AB26","v":0}]
[{"$f":"'A Fleet Scoring'!A27","v":"Poquoson 2"},{"$f":"'A Fleet Scoring'!B27","v":11},{"$f":"'A Fleet Scoring'!C27","v":11},{"$f":"'A Fleet Scoring'!D27","v":10},{"$f":"'A Fleet Scoring'!E27","v":13},{"$f":"'A Fleet Scoring'!F27","v":11},{"$f":"'A Fleet Scoring'!G27","v":9},{"$f":"'A Fleet Scoring'!H27","v":1},{"$f":"'A Fleet Scoring'!I27","v":9},{"$f":"'A Fleet Scoring'!J27","v":0},{"$f":"'A Fleet Scoring'!K27","v":3},{"$f":"'A Fleet Scoring'!L27","v":0},{"$f":"'A Fleet Scoring'!M27","v":0},{"$f":"'A Fleet Scoring'!N27","v":5},{"$f":"'A Fleet Scoring'!O27","v":0},{"$f":"'A Fleet Scoring'!P27","v":0},{"$f":"'A Fleet Scoring'!Q27","v":7},{"$f":"'A Fleet Scoring'!R27","v":0},{"$f":"'A Fleet Scoring'!S27","v":0},{"$f":"'A Fleet Scoring'!T27","v":9},{"$f":"'A Fleet Scoring'!U27","v":0},{"$f":"'A Fleet Scoring'!V27","v":0},{"$f":"'A Fleet Scoring'!W27","v":11},{"$f":"'A Fleet Scoring'!X27","v":0},{"$f":"'A Fleet Scoring'!Y27","v":0},{"$f":"'A Fleet Scoring'!Z27","v":13},{"$f":"'A Fleet Scoring'!AA27","v":0},{"$f":"'A Fleet Scoring'!AB27","v":0}]
[{"$f":"'A Fleet Scoring'!A28","v":"Norfolk Collegiate 2"},{"$f":"'A Fleet Scoring'!B28","v":12},{"$f":"'A Fleet Scoring'!C28","v":4},{"$f":"'A Fleet Scoring'!D28","v":6},{"$f":"'A Fleet Scoring'!E28","v":14},{"$f":"'A Fleet Scoring'!F28","v":7},{"$f":"'A Fleet Scoring'!G28","v":3},{"$f":"'A Fleet Scoring'!H28","v":2},{"$f":"'A Fleet Scoring'!I28","v":8},{"$f":"'A Fleet Scoring'!J28","v":0},{"$f":"'A Fleet Scoring'!K28","v":4},{"$f":"'A Fleet Scoring'!L28","v":0},{"$f":"'A Fleet Scoring'!M28","v":0},{"$f":"'A Fleet Scoring'!N28","v":6},{"$f":"'A Fleet Scoring'!O28","v":0},{"$f":"'A Fleet Scoring'!P28","v":0},{"$f":"'A Fleet Scoring'!Q28","v":15},{"$f":"'A Fleet Scoring'!R28","v":0},{"$f":"'A Fleet Scoring'!S28","v":0},{"$f":"'A Fleet Scoring'!T28","v":10},{"$f":"'A Fleet Scoring'!U28","v":0},{"$f":"'A Fleet Scoring'!V28","v":0},{"$f":"'A Fleet Scoring'!W28","v":12},{"$f":"'A Fleet Scoring'!X28","v":0},{"$f":"'A Fleet Scoring'!Y28","v":0},{"$f":"'A Fleet Scoring'!Z28","v":14},{"$f":"'A Fleet Scoring'!AA28","v":0},{"$f":"'A Fleet Scoring'!AB28","v":0}]
[{"$f":"'A Fleet Scoring'!A29","v":"Kecoughtan 2"},{"$f":"'A Fleet Scoring'!B29","v":13},{"$f":"'A Fleet Scoring'!C29","v":9},{"$f":"'A Fleet Scoring'!D29","v":7},{"$f":"'A Fleet Scoring'!E29","v":1},{"$f":"'A Fleet Scoring'!F29","v":9},{"$f":"'A Fleet Scoring'!G29","v":12},{"$f":"'A Fleet Scoring'!H29","v":3},{"$f":"'A Fleet Scoring'!I29","v":4},{"$f":"'A Fleet Scoring'!J29","v":0},{"$f":"'A Fleet Scoring'!K29","v":5},{"$f":"'A Fleet Scoring'!L29","v":0},{"$f":"'A Fleet Scoring'!M29","v":0},{"$f":"'A Fleet Scoring'!N29","v":7},{"$f":"'A Fleet Scoring'!O29","v":0},{"$f":"'A Fleet Scoring'!P29","v":0},{"$f":"'A Fleet Scoring'!Q29","v":9},{"$f":"'A Fleet Scoring'!R29","v":0},{"$f":"'A Fleet Scoring'!S29","v":0},{"$f":"'A Fleet Scoring'!T29","v":11},{"$f":"'A Fleet Scoring'!U29","v":0},{"$f":"'A Fleet Scoring'!V29","v":0},{"$f":"'A Fleet Scoring'!W29","v":13},{"$f":"'A Fleet Scoring'!X29","v":0},{"$f":"'A Fleet Scoring'!Y29","v":0},{"$f":"'A Fleet Scoring'!Z29","v":1},{"$f":"'A Fleet Scoring'!AA29","v":0},{"$f":"'A Fleet Scoring'!AB29","v":0}]
[{"$f":"'A Fleet Scoring'!A30","v":"Maury 2"},{"$f":"'A Fleet Scoring'!B30","v":14},{"$f":"'A Fleet Scoring'!C30","v":12},{"$f":"'A Fleet Scoring'!D30","v":12},{"$f":"'A Fleet Scoring'!E30","v":2},{"$f":"'A Fleet Scoring'!F30","v":12},{"$f":"'A Fleet Scoring'!G30","v":6},{"$f":"'A Fleet Scoring'!H30","v":4},{"$f":"'A Fleet Scoring'!I30","v":11},{"$f":"'A Fleet Scoring'!J30","v":0},{"$f":"'A Fleet Scoring'!K30","v":6},{"$f":"'A Fleet Scoring'!L30","v":0},{"$f":"'A Fleet Scoring'!M30","v":0},{"$f":"'A Fleet Scoring'!N30","v":15},{"$f":"'A Fleet Scoring'!O30","v":0},{"$f":"'A Fleet Scoring'!P30","v":0},{"$f":"'A Fleet Scoring'!Q30","v":10},{"$f":"'A Fleet Scoring'!R30","v":0},{"$f":"'A Fleet Scoring'!S30","v":0},{"$f":"'A Fleet Scoring'!T30","v":12},{"$f":"'A Fleet Scoring'!U30","v":0},{"$f":"'A Fleet Scoring'!V30","v":0},{"$f":"'A Fleet Scoring'!W30","v":14},{"$f":"'A Fleet Scoring'!X30","v":0},{"$f":"'A Fleet Scoring'!Y30","v":0},{"$f":"'A Fleet Scoring'!Z30","v":2},{"$f":"'A Fleet Scoring'!AA30","v":0},{"$f":"'A Fleet Scoring'!AB30","v":0}]
[{"$f":"'A Fleet Scoring'!A31","v":0},{"$f":"'A Fleet Scoring'!B31","v":0},{"$f":"'A Fleet Scoring'!C31","v":0},{"$f":"'A Fleet Scoring'!D31","v":0},{"$f":"'A Fleet Scoring'!E31","v":0},{"$f":"'A Fleet Scoring'!F31","v":0},{"$f":"'A Fleet Scoring'!G31","v":0},{"$f":"'A Fleet Scoring'!H31","v":0},{"$f":"'A Fleet Scoring'!I31","v":0},{"$f":"'A Fleet Scoring'!J31","v":0},{"$f":"'A Fleet Scoring'!K31","v":0},{"$f":"'A Fleet Scoring'!L31","v":0},{"$f":"'A Fleet Scoring'!M31","v":0},{"$f":"'A Fleet Scoring'!N31","v":0},{"$f":"'A Fleet Scoring'!O31","v":0},{"$f":"'A Fleet Scoring'!P31","v":0},{"$f":"'A Fleet Scoring'!Q31","v":0},{"$f":"'A Fleet Scoring'!R31","v":0},{"$f":"'A Fleet Scoring'!S31","v":0},{"$f":"'A Fleet Scoring'!T31","v":0},{"$f":"'A Fleet Scoring'!U31","v":0},{"$f":"'A Fleet Scoring'!V31","v":0},{"$f":"'A Fleet Scoring'!W31","v":0},{"$f":"'A Fleet Scoring'!X31","v":0},{"$f":"'A Fleet Scoring'!Y31","v":0},{"$f":"'A Fleet Scoring'!Z31","v":0},{"$f":"'A Fleet Scoring'!AA31","v":0},{"$f":"'A Fleet Scoring'!AB31","v":0}]
[{"$f":"'A Fleet Scoring'!A32","v":0},{"$f":"'A Fleet Scoring'!B32","v":0},{"$f":"'A Fleet Scoring'!C32","v":0},{"$f":"'A Fleet Scoring'!D32","v":0},{"$f":"'A Fleet Scoring'!E32","v":0},{"$f":"'A Fleet Scoring'!F32","v":0},{"$f":"'A Fleet Scoring'!G32","v":0},{"$f":"'A Fleet Scoring'!H32","v":0},{"$f":"'A Fleet Scoring'!I32","v":0},{"$f":"'A Fleet Scoring'!J32","v":0},{"$f":"'A Fleet Scoring'!K32","v":0},{"$f":"'A Fleet Scoring'!L32","v":0},{"$f":"'A Fleet Scoring'!M32","v":0},{"$f":"'A Fleet Scoring'!N32","v":0},{"$f":"'A Fleet Scoring'!O32","v":0},{"$f":"'A Fleet Scoring'!P32","v":0},{"$f":"'A Fleet Scoring'!Q32","v":0},{"$f":"'A Fleet Scoring'!R32","v":0},{"$f":"'A Fleet Scoring'!S32","v":0},{"$f":"'A Fleet Scoring'!T32","v":0},{"$f":"'A Fleet Scoring'!U32","v":0},{"$f":"'A Fleet Scoring'!V32","v":0},{"$f":"'A Fleet Scoring'!W32","v":0},{"$f":"'A Fleet Scoring'!X32","v":0},{"$f":"'A Fleet Scoring'!Y32","v":0},{"$f":"'A Fleet Scoring'!Z32","v":0},{"$f":"'A Fleet Scoring'!AA32","v":0},{"$f":"'A Fleet Scoring'!AB32","v":0}]
[{"$f":"'A Fleet Scoring'!A33","v":0},{"$f":"'A Fleet Scoring'!B33","v":0},{"$f":"'A Fleet Scoring'!C33","v":0},{"$f":"'A Fleet Scoring'!D33","v":0},{"$f":"'A Fleet Scoring'!E33","v":0},{"$f":"'A Fleet Scoring'!F33","v":0},{"$f":"'A Fleet Scoring'!G33","v":0},{"$f":"'A Fleet Scoring'!H33","v":0},{"$f":"'A Fleet Scoring'!I33","v":0},{"$f":"'A Fleet Scoring'!J33","v":0},{"$f":"'A Fleet Scoring'!K33","v":0},{"$f":"'A Fleet Scoring'!L33","v":0},{"$f":"'A Fleet Scoring'!M33","v":0},{"$f":"'A Fleet Scoring'!N33","v":0},{"$f":"'A Fleet Scoring'!O33","v":0},{"$f":"'A Fleet Scoring'!P33","v":0},{"$f":"'A Fleet Scoring'!Q33","v":0},{"$f":"'A Fleet Scoring'!R33","v":0},{"$f":"'A Fleet Scoring'!S33","v":0},{"$f":"'A Fleet Scoring'!T33","v":0},{"$f":"'A Fleet Scoring'!U33","v":0},{"$f":"'A Fleet Scoring'!V33","v":0},{"$f":"'A Fleet Scoring'!W33","v":0},{"$f":"'A Fleet Scoring'!X33","v":0},{"$f":"'A Fleet Scoring'!Y33","v":0},{"$f":"'A Fleet Scoring'!Z33","v":0},{"$f":"'A Fleet Scoring'!AA33","v":0},{"$f":"'A Fleet Scoring'!AB33","v":0}]
[{"$f":"'A Fleet Scoring'!A34","v":0},{"$f":"'A Fleet Scoring'!B34","v":0},{"$f":"'A Fleet Scoring'!C34","v":0},{"$f":"'A Fleet Scoring'!D34","v":0},{"$f":"'A Fleet Scoring'!E34","v":0},{"$f":"'A Fleet Scoring'!F34","v":0},{"$f":"'A Fleet Scoring'!G34","v":0},{"$f":"'A Fleet Scoring'!H34","v":0},{"$f":"'A Fleet Scoring'!I34","v":0},{"$f":"'A Fleet Scoring'!J34","v":0},{"$f":"'A Fleet Scoring'!K34","v":0},{"$f":"'A Fleet Scoring'!L34","v":0},{"$f":"'A Fleet Scoring'!M34","v":0},{"$f":"'A Fleet Scoring'!N34","v":0},{"$f":"'A Fleet Scoring'!O34","v":0},{"$f":"'A Fleet Scoring'!P34","v":0},{"$f":"'A Fleet Scoring'!Q34","v":0},{"$f":"'A Fleet Scoring'!R34","v":0},{"$f":"'A Fleet Scoring'!S34","v":0},{"$f":"'A Fleet Scoring'!T34","v":0},{"$f":"'A Fleet Scoring'!U34","v":0},{"$f":"'A Fleet Scoring'!V34","v":0},{"$f":"'A Fleet Scoring'!W34","v":0},{"$f":"'A Fleet Scoring'!X34","v":0},{"$f":"'A Fleet Scoring'!Y34","v":0},{"$f":"'A Fleet Scoring'!Z34","v":0},{"$f":"'A Fleet Scoring'!AA34","v":0},{"$f":"'A Fleet Scoring'!AB34","v":0}]
[]
[{"$f":"'B Fleet Scoring'!A15","v":"B Fleet"},{"$f":"'B Fleet Scoring'!B15","v":"Sail"},{"$f":"'B Fleet Scoring'!C15","v":"Fleet/Race"},null,{"$f":"'B Fleet Scoring'!E15","v":"Sail"},{"$f":"'B Fleet Scoring'!F15","v":"Fleet/Race"},null,{"$f":"'B Fleet Scoring'!H15","v":"Sail"},{"$f":"'B Fleet Scoring'!I15","v":"Fleet/Race"},null,{"$f":"'B Fleet Scoring'!K15","v":"Sail"},{"$f":"'B Fleet Scoring'!L15","v":"Fleet/Race"},null,{"$f":"'B Fleet Scoring'!N15","v":"Sail"},{"$f":"'B Fleet Scoring'!O15","v":"Fleet/Race"},null,{"$f":"'B Fleet Scoring'!Q15","v":"Sail"},{"$f":"'B Fleet Scoring'!R15","v":"Fleet/Race"},null,{"$f":"'B Fleet Scoring'!T15","v":"Sail"},{"$f":"'B Fleet Scoring'!U15","v":"Fleet/Race"},null,{"$f":"'B Fleet Scoring'!W15","v":"Sail"},{"$f":"'B Fleet Scoring'!X15","v":"Fleet/Race"},null,{"$f":"'B Fleet Scoring'!Z15","v":"Sail"},{"$f":"'B Fleet Scoring'!AA15","v":"Fleet/Race"}]
[{"$f":"'B Fleet Scoring'!A16","v":"School"},{"$f":"'B Fleet Scoring'!B16","v":"Boat"},{"$f":"'B Fleet Scoring'!C16","v":1},{"$f":"'B Fleet Scoring'!D16","v":2},{"$f":"'B Fleet Scoring'!E16","v":"Boat"},{"$f":"'B Fleet Scoring'!F16","v":3},{"$f":"'B Fleet Scoring'!G16","v":4},{"$f":"'B Fleet Scoring'!H16","v":"Boat"},{"$f":"'B Fleet Scoring'!I16","v":5},{"$f":"'B Fleet Scoring'!J16","v":6},{"$f":"'B Fleet Scoring'!K16","v":"Boat"},{"$f":"'B Fleet Scoring'!L16","v":7},{"$f":"'B Fleet Scoring'!M16","v":8},{"$f":"'B Fleet Scoring'!N16","v":"Boat"},{"$f":"'B Fleet Scoring'!O16","v":9},{"$f":"'B Fleet Scoring'!P16","v":10},{"$f":"'B Fleet Scoring'!Q16","v":"Boat"},{"$f":"'B Fleet Scoring'!R16","v":11},{"$f":"'B Fleet Scoring'!S16","v":12},{"$f":"'B Fleet Scoring'!T16","v":"Boat"},{"$f":"'B Fleet Scoring'!U16","v":13},{"$f":"'B Fleet Scoring'!V16","v":14},{"$f":"'B Fleet Scoring'!W16","v":"Boat"},{"$f":"'B Fleet Scoring'!X16","v":15},{"$f":"'B Fleet Scoring'!Y16","v":16},{"$f":"'B Fleet Scoring'!Z16","v":"Boat"},{"$f":"'B Fleet Scoring'!AA16","v":17},{"$f":"'B Fleet Scoring'!AB16","v":18}]
[{"$f":"'B Fleet Scoring'!A17","v":"Norfolk Academy"},{"$f":"'B Fleet Scoring'!B17","v":2},{"$f":"'B Fleet Scoring'!C17","v":2},{"$f":"'B Fleet Scoring'!D17","v":1},{"$f":"'B Fleet Scoring'!E17","v":4},{"$f":"'B Fleet Scoring'!F17","v":2},{"$f":"'B Fleet Scoring'!G17","v":1},{"$f":"'B Fleet Scoring'!H17","v":6},{"$f":"'B Fleet Scoring'!I17","v":2},{"$f":"'B Fleet Scoring'!J17","v":0},{"$f":"'B Fleet Scoring'!K17","v":15},{"$f":"'B Fleet Scoring'!L17","v":0},{"$f":"'B Fleet Scoring'!M17","v":0},{"$f":"'B Fleet Scoring'!N17","v":10},{"$f":"'B Fleet Scoring'!O17","v":0},{"$f":"'B Fleet Scoring'!P17","v":0},{"$f":"'B Fleet Scoring'!Q17","v":12},{"$f":"'B Fleet Scoring'!R17","v":0},{"$f":"'B Fleet Scoring'!S17","v":0},{"$f":"'B Fleet Scoring'!T17","v":14},{"$f":"'B Fleet Scoring'!U17","v":0},{"$f":"'B Fleet Scoring'!V17","v":0},{"$f":"'B Fleet Scoring'!W17","v":2},{"$f":"'B Fleet Scoring'!X17","v":0},{"$f":"'B Fleet Scoring'!Y17","v":0},{"$f":"'B Fleet Scoring'!Z17","v":4},{"$f":"'B Fleet Scoring'!AA17","v":0},{"$f":"'B Fleet Scoring'!AB17","v":0}]
[{"$f":"'B Fleet Scoring'!A18","v":"Poquoson 1"},{"$f":"'B Fleet Scoring'!B18","v":3},{"$f":"'B Fleet Scoring'!C18","v":3},{"$f":"'B Fleet Scoring'!D18","v":5},{"$f":"'B Fleet Scoring'!E18","v":5},{"$f":"'B Fleet Scoring'!F18","v":11},{"$f":"'B Fleet Scoring'!G18","v":6},{"$f":"'B Fleet Scoring'!H18","v":7},{"$f":"'B Fleet Scoring'!I18","v":1},{"$f":"'B Fleet Scoring'!J18","v":0},{"$f":"'B Fleet Scoring'!K18","v":9},{"$f":"'B Fleet Scoring'!L18","v":0},{"$f":"'B Fleet Scoring'!M18","v":0},{"$f":"'B Fleet Scoring'!N18","v":11},{"$f":"'B Fleet Scoring'!O18","v":0},{"$f":"'B Fleet Scoring'!P18","v":0},{"$f":"'B Fleet Scoring'!Q18","v":13},{"$f":"'B Fleet Scoring'!R18","v":0},{"$f":"'B Fleet Scoring'!S18","v":0},{"$f":"'B Fleet Scoring'!T18","v":1},{"$f":"'B Fleet Scoring'!U18","v":0},{"$f":"'B Fleet Scoring'!V18","v":0},{"$f":"'B Fleet Scoring'!W18","v":3},{"$f":"'B Fleet Scoring'!X18","v":0},{"$f":"'B Fleet Scoring'!Y18","v":0},{"$f":"'B Fleet Scoring'!Z18","v":5},{"$f":"'B Fleet Scoring'!AA18","v":0},{"$f":"'B Fleet Scoring'!AB18","v":0}]
[{"$f":"'B Fleet Scoring'!A19","v":"Walsingham"},{"$f":"'B Fleet Scoring'!B19","v":4},{"$f":"'B Fleet Scoring'!C19","v":8},{"$f":"'B Fleet Scoring'!D19","v":12},{"$f":"'B Fleet Scoring'!E19","v":6},{"$f":"'B Fleet Scoring'!F19","v":7},{"$f":"'B Fleet Scoring'!G19","v":13},{"$f":"'B Fleet Scoring'!H19","v":15},{"$f":"'B Fleet Scoring'!I19","v":10},{"$f":"'B Fleet Scoring'!J19","v":0},{"$f":"'B Fleet Scoring'!K19","v":10},{"$f":"'B Fleet Scoring'!L19","v":0},{"$f":"'B Fleet Scoring'!M19","v":0},{"$f":"'B Fleet Scoring'!N19","v":12},{"$f":"'B Fleet Scoring'!O19","v":0},{"$f":"'B Fleet Scoring'!P19","v":0},{"$f":"'B Fleet Scoring'!Q19","v":14},{"$f":"'B Fleet Scoring'!R19","v":0},{"$f":"'B Fleet Scoring'!S19","v":0},{"$f":"'B Fleet Scoring'!T19","v":2},{"$f":"'B Fleet Scoring'!U19","v":0},{"$f":"'B Fleet Scoring'!V19","v":0},{"$f":"'B Fleet Scoring'!W19","v":4},{"$f":"'B Fleet Scoring'!X19","v":0},{"$f":"'B Fleet Scoring'!Y19","v":0},{"$f":"'B Fleet Scoring'!Z19","v":6},{"$f":"'B Fleet Scoring'!AA19","v":0},{"$f":"'B Fleet Scoring'!AB19","v":0}]
[{"$f":"'B Fleet Scoring'!A20","v":"Norfolk Collegiate 1"},{"$f":"'B Fleet Scoring'!B20","v":5},{"$f":"'B Fleet Scoring'!C20","v":1},{"$f":"'B Fleet Scoring'!D20","v":2},{"$f":"'B Fleet Scoring'!E20","v":7},{"$f":"'B Fleet Scoring'!F20","v":1},{"$f":"'B Fleet Scoring'!G20","v":3},{"$f":"'B Fleet Scoring'!H20","v":9},{"$f":"'B Fleet Scoring'!I20","v":5},{"$f":"'B Fleet Scoring'!J20","v":0},{"$f":"'B Fleet Scoring'!K20","v":11},{"$f":"'B Fleet Scoring'!L20","v":0},{"$f":"'B Fleet Scoring'!M20","v":0},{"$f":"'B Fleet Scoring'!N20","v":13},{"$f":"'B Fleet Scoring'!O20","v":0},{"$f":"'B Fleet Scoring'!P20","v":0},{"$f":"'B Fleet Scoring'!Q20","v":1},{"$f":"'B Fleet Scoring'!R20","v":0},{"$f":"'B Fleet Scoring'!S20","v":0},{"$f":"'B Fleet Scoring'!T20","v":3},{"$f":"'B Fleet Scoring'!U20","v":0},{"$f":"'B Fleet Scoring'!V20","v":0},{"$f":"'B Fleet Scoring'!W20","v":5},{"$f":"'B Fleet Scoring'!X20","v":0},{"$f":"'B Fleet Scoring'!Y20","v":0},{"$f":"'B Fleet Scoring'!Z20","v":7},{"$f":"'B Fleet Scoring'!AA20","v":0},{"$f":"'B Fleet Scoring'!AB20","v":0}]
[{"$f":"'B Fleet Scoring'!A21","v":"Kecoughtan 1"},{"$f":"'B Fleet Scoring'!B21","v":6},{"$f":"'B Fleet Scoring'!C21","v":4},{"$f":"'B Fleet Scoring'!D21","v":7},{"$f":"'B Fleet Scoring'!E21","v":15},{"$f":"'B Fleet Scoring'!F21","v":6},{"$f":"'B Fleet Scoring'!G21","v":5},{"$f":"'B Fleet Scoring'!H21","v":10},{"$f":"'B Fleet Scoring'!I21","v":11},{"$f":"'B Fleet Scoring'!J21","v":0},{"$f":"'B Fleet Scoring'!K21","v":12},{"$f":"'B Fleet Scoring'!L21","v":0},{"$f":"'B Fleet Scoring'!M21","v":0},{"$f":"'B Fleet Scoring'!N21","v":14},{"$f":"'B Fleet Scoring'!O21","v":0},{"$f":"'B Fleet Scoring'!P21","v":0},{"$f":"'B Fleet Scoring'!Q21","v":2},{"$f":"'B Fleet Scoring'!R21","v":0},{"$f":"'B Fleet Scoring'!S21","v":0},{"$f":"'B Fleet Scoring'!T21","v":4},{"$f":"'B Fleet Scoring'!U21","v":0},{"$f":"'B Fleet Scoring'!V21","v":0},{"$f":"'B Fleet Scoring'!W21","v":6},{"$f":"'B Fleet Scoring'!X21","v":0},{"$f":"'B Fleet Scoring'!Y21","v":0},{"$f":"'B Fleet Scoring'!Z21","v":15},{"$f":"'B Fleet Scoring'!AA21","v":0},{"$f":"'B Fleet Scoring'!AB21","v":0}]
[{"$f":"'B Fleet Scoring'!A22","v":"Maury 1"},{"$f":"'B Fleet Scoring'!B22","v":7},{"$f":"'B Fleet Scoring'!C22","v":14},{"$f":"'B Fleet Scoring'!D22","v":13},{"$f":"'B Fleet Scoring'!E22","v":9},{"$f":"'B Fleet Scoring'!F22","v":12},{"$f":"'B Fleet Scoring'!G22","v":12},{"$f":"'B Fleet Scoring'!H22","v":11},{"$f":"'B Fleet Scoring'!I22","v":14},{"$f":"'B Fleet Scoring'!J22","v":0},{"$f":"'B Fleet Scoring'!K22","v":13},{"$f":"'B Fleet Scoring'!L22","v":0},{"$f":"'B Fleet Scoring'!M22","v":0},{"$f":"'B Fleet Scoring'!N22","v":1},{"$f":"'B Fleet Scoring'!O22","v":0},{"$f":"'B Fleet Scoring'!P22","v":0},{"$f":"'B Fleet Scoring'!Q22","v":3},{"$f":"'B Fleet Scoring'!R22","v":0},{"$f":"'B Fleet Scoring'!S22","v":0},{"$f":"'B Fleet Scoring'!T22","v":5},{"$f":"'B Fleet Scoring'!U22","v":0},{"$f":"'B Fleet Scoring'!V22","v":0},{"$f":"'B Fleet Scoring'!W22","v":7},{"$f":"'B Fleet Scoring'!X22","v":0},{"$f":"'B Fleet Scoring'!Y22","v":0},{"$f":"'B Fleet Scoring'!Z22","v":9},{"$f":"'B Fleet Scoring'!AA22","v":0},{"$f":"'B Fleet Scoring'!AB22","v":0}]
[{"$f":"'B Fleet Scoring'!A23","v":"Nansemond Suffolk"},{"$f":"'B Fleet Scoring'!B23","v":15},{"$f":"'B Fleet Scoring'!C23","v":11},{"$f":"'B Fleet Scoring'!D23","v":3},{"$f":"'B Fleet Scoring'!E23","v":10},{"$f":"'B Fleet Scoring'!F23","v":14},{"$f":"'B Fleet Scoring'!G23","v":11},{"$f":"'B Fleet Scoring'!H23","v":12},{"$f":"'B Fleet Scoring'!I23","v":13},{"$f":"'B Fleet Scoring'!J23","v":0},{"$f":"'B Fleet Scoring'!K23","v":14},{"$f":"'B Fleet Scoring'!L23","v":0},{"$f":"'B Fleet Scoring'!M23","v":0},{"$f":"'B Fleet Scoring'!N23","v":2},{"$f":"'B Fleet Scoring'!O23","v":0},{"$f":"'B Fleet Scoring'!P23","v":0},{"$f":"'B Fleet Scoring'!Q23","v":4},{"$f":"'B Fleet Scoring'!R23","v":0},{"$f":"'B Fleet Scoring'!S23","v":0},{"$f":"'B Fleet Scoring'!T23","v":6},{"$f":"'B Fleet Scoring'!U23","v":0},{"$f":"'B Fleet Scoring'!V23","v":0},{"$f":"'B Fleet Scoring'!W23","v":15},{"$f":"'B Fleet Scoring'!X23","v":0},{"$f":"'B Fleet Scoring'!Y23","v":0},{"$f":"'B Fleet Scoring'!Z23","v":10},{"$f":"'B Fleet Scoring'!AA23","v":0},{"$f":"'B Fleet Scoring'!AB23","v":0}]
[{"$f":"'B Fleet Scoring'!A24","v":"Hampton/Phoebus"},{"$f":"'B Fleet Scoring'!B24","v":9},{"$f":"'B Fleet Scoring'!C24","v":9},{"$f":"'B Fleet Scoring'!D24","v":4},{"$f":"'B Fleet Scoring'!E24","v":11},{"$f":"'B Fleet Scoring'!F24","v":5},{"$f":"'B Fleet Scoring'!G24","v":8},{"$f":"'B Fleet Scoring'!H24","v":13},{"$f":"'B Fleet Scoring'!I24","v":8},{"$f":"'B Fleet Scoring'!J24","v":0},{"$f":"'B Fleet Scoring'!K24","v":1},{"$f":"'B Fleet Scoring'!L24","v":0},{"$f":"'B Fleet Scoring'!M24","v":0},{"$f":"'B Fleet Scoring'!N24","v":3},{"$f":"'B Fleet Scoring'!O24","v":0},{"$f":"'B Fleet Scoring'!P24","v":0},{"$f":"'B Fleet Scoring'!Q24","v":5},{"$f":"'B Fleet Scoring'!R24","v":0},{"$f":"'B Fleet Scoring'!S24","v":0},{"$f":"'B Fleet Scoring'!T24","v":7},{"$f":"'B Fleet Scoring'!U24","v":0},{"$f":"'B Fleet Scoring'!V24","v":0},{"$f":"'B Fleet Scoring'!W24","v":9},{"$f":"'B Fleet Scoring'!X24","v":0},{"$f":"'B Fleet Scoring'!Y24","v":0},{"$f":"'B Fleet Scoring'!Z24","v":11},{"$f":"'B Fleet Scoring'!AA24","v":0},{"$f":"'B Fleet Scoring'!AB24","v":0}]
[{"$f":"'B Fleet Scoring'!A25","v":"Smithfield HS"},{"$f":"'B Fleet Scoring'!B25","v":10},{"$f":"'B Fleet Scoring'!C25","v":13},{"$f":"'B Fleet Scoring'!D25","v":8},{"$f":"'B Fleet Scoring'!E25","v":12},{"$f":"'B Fleet Scoring'!F25","v":13},{"$f":"'B Fleet Scoring'!G25","v":7},{"$f":"'B Fleet Scoring'!H25","v":14},{"$f":"'B Fleet Scoring'!I25","v":7},{"$f":"'B Fleet Scoring'!J25","v":0},{"$f":"'B Fleet Scoring'!K25","v":2},{"$f":"'B Fleet Scoring'!L25","v":0},{"$f":"'B Fleet Scoring'!M25","v":0},{"$f":"'B Fleet Scoring'!N25","v":4},{"$f":"'B Fleet Scoring'!O25","v":0},{"$f":"'B Fleet Scoring'!P25","v":0},{"$f":"'B Fleet Scoring'!Q25","v":6},{"$f":"'B Fleet Scoring'!R25","v":0},{"$f":"'B Fleet Scoring'!S25","v":0},{"$f":"'B Fleet Scoring'!T25","v":15},{"$f":"'B Fleet Scoring'!U25","v":0},{"$f":"'B Fleet Scoring'!V25","v":0},{"$f":"'B Fleet Scoring'!W25","v":10},{"$f":"'B Fleet Scoring'!X25","v":0},{"$f":"'B Fleet Scoring'!Y25","v":0},{"$f":"'B Fleet Scoring'!Z25","v":12},{"$f":"'B Fleet Scoring'!AA25","v":0},{"$f":"'B Fleet Scoring'!AB25","v":0}]
[{"$f":"'B Fleet Scoring'!A26","v":"HRA"},{"$f":"'B Fleet Scoring'!B26","v":11},{"$f":"'B Fleet Scoring'!C26","v":6},{"$f":"'B Fleet Scoring'!D26","v":10},{"$f":"'B Fleet Scoring'!E26","v":13},{"$f":"'B Fleet Scoring'!F26","v":4},{"$f":"'B Fleet Scoring'!G26","v":4},{"$f":"'B Fleet Scoring'!H26","v":1},{"$f":"'B Fleet Scoring'!I26","v":9},{"$f":"'B Fleet Scoring'!J26","v":0},{"$f":"'B Fleet Scoring'!K26","v":3},{"$f":"'B Fleet Scoring'!L26","v":0},{"$f":"'B Fleet Scoring'!M26","v":0},{"$f":"'B Fleet Scoring'!N26","v":5},{"$f":"'B Fleet Scoring'!O26","v":0},{"$f":"'B Fleet Scoring'!P26","v":0},{"$f":"'B Fleet Scoring'!Q26","v":7},{"$f":"'B Fleet Scoring'!R26","v":0},{"$f":"'B Fleet Scoring'!S26","v":0},{"$f":"'B Fleet Scoring'!T26","v":9},{"$f":"'B Fleet Scoring'!U26","v":0},{"$f":"'B Fleet Scoring'!V26","v":0},{"$f":"'B Fleet Scoring'!W26","v":11},{"$f":"'B Fleet Scoring'!X26","v":0},{"$f":"'B Fleet Scoring'!Y26","v":0},{"$f":"'B Fleet Scoring'!Z26","v":13},{"$f":"'B Fleet Scoring'!AA26","v":0},{"$f":"'B Fleet Scoring'!AB26","v":0}]
[{"$f":"'B Fleet Scoring'!A27","v":"Poquoson 2"},{"$f":"'B Fleet Scoring'!B27","v":12},{"$f":"'B Fleet Scoring'!C27","v":7},{"$f":"'B Fleet Scoring'!D27","v":6},{"$f":"'B Fleet Scoring'!E27","v":14},{"$f":"'B Fleet Scoring'!F27","v":10},{"$f":"'B Fleet Scoring'!G27","v":9},{"$f":"'B Fleet Scoring'!H27","v":2},{"$f":"'B Fleet Scoring'!I27","v":12},{"$f":"'B Fleet Scoring'!J27","v":0},{"$f":"'B Fleet Scoring'!K27","v":4},{"$f":"'B Fleet Scoring'!L27","v":0},{"$f":"'B Fleet Scoring'!M27","v":0},{"$f":"'B Fleet Scoring'!N27","v":6},{"$f":"'B Fleet Scoring'!O27","v":0},{"$f":"'B Fleet Scoring'!P27","v":0},{"$f":"'B Fleet Scoring'!Q27","v":15},{"$f":"'B Fleet Scoring'!R27","v":0},{"$f":"'B Fleet Scoring'!S27","v":0},{"$f":"'B Fleet Scoring'!T27","v":10},{"$f":"'B Fleet Scoring'!U27","v":0},{"$f":"'B Fleet Scoring'!V27","v":0},{"$f":"'B Fleet Scoring'!W27","v":12},{"$f":"'B Fleet Scoring'!X27","v":0},{"$f":"'B Fleet Scoring'!Y27","v":0},{"$f":"'B Fleet Scoring'!Z27","v":14},{"$f":"'B Fleet Scoring'!AA27","v":0},{"$f":"'B Fleet Scoring'!AB27","v":0}]
[{"$f":"'B Fleet Scoring'!A28","v":"Norfolk Collegiate 2"},{"$f":"'B Fleet Scoring'!B28","v":13},{"$f":"'B Fleet Scoring'!C28","v":5},{"$f":"'B Fleet Scoring'!D28","v":11},{"$f":"'B Fleet Scoring'!E28","v":1},{"$f":"'B Fleet Scoring'!F28","v":3},{"$f":"'B Fleet Scoring'!G28","v":10},{"$f":"'B Fleet Scoring'!H28","v":3},{"$f":"'B Fleet Scoring'!I28","v":6},{"$f":"'B Fleet Scoring'!J28","v":0},{"$f":"'B Fleet Scoring'!K28","v":5},{"$f":"'B Fleet Scoring'!L28","v":0},{"$f":"'B Fleet Scoring'!M28","v":0},{"$f":"'B Fleet Scoring'!N28","v":7},{"$f":"'B Fleet Scoring'!O28","v":0},{"$f":"'B Fleet Scoring'!P28","v":0},{"$f":"'B Fleet Scoring'!Q28","v":9},{"$f":"'B Fleet Scoring'!R28","v":0},{"$f":"'B Fleet Scoring'!S28","v":0},{"$f":"'B Fleet Scoring'!T28","v":11},{"$f":"'B Fleet Scoring'!U28","v":0},{"$f":"'B Fleet Scoring'!V28","v":0},{"$f":"'B Fleet Scoring'!W28","v":13},{"$f":"'B Fleet Scoring'!X28","v":0},{"$f":"'B Fleet Scoring'!Y28","v":0},{"$f":"'B Fleet Scoring'!Z28","v":1},{"$f":"'B Fleet Scoring'!AA28","v":0},{"$f":"'B Fleet Scoring'!AB28","v":0}]
[{"$f":"'B Fleet Scoring'!A29","v":"Kecoughtan 2"},{"$f":"'B Fleet Scoring'!B29","v":14},{"$f":"'B Fleet Scoring'!C29","v":10},{"$f":"'B Fleet Scoring'!D29","v":9},{"$f":"'B Fleet Scoring'!E29","v":2},{"$f":"'B Fleet Scoring'!F29","v":8},{"$f":"'B Fleet Scoring'!G29","v":2},{"$f":"'B Fleet Scoring'!H29","v":4},{"$f":"'B Fleet Scoring'!I29","v":4},{"$f":"'B Fleet Scoring'!J29","v":0},{"$f":"'B Fleet Scoring'!K29","v":6},{"$f":"'B Fleet Scoring'!L29","v":0},{"$f":"'B Fleet Scoring'!M29","v":0},{"$f":"'B Fleet Scoring'!N29","v":15},{"$f":"'B Fleet Scoring'!O29","v":0},{"$f":"'B Fleet Scoring'!P29","v":0},{"$f":"'B Fleet Scoring'!Q29","v":10},{"$f":"'B Fleet Scoring'!R29","v":0},{"$f":"'B Fleet Scoring'!S29","v":0},{"$f":"'B Fleet Scoring'!T29","v":12},{"$f":"'B Fleet Scoring'!U29","v":0},{"$f":"'B Fleet Scoring'!V29","v":0},{"$f":"'B Fleet Scoring'!W29","v":14},{"$f":"'B Fleet Scoring'!X29","v":0},{"$f":"'B Fleet Scoring'!Y29","v":0},{"$f":"'B Fleet Scoring'!Z29","v":2},{"$f":"'B Fleet Scoring'!AA29","v":0},{"$f":"'B Fleet Scoring'!AB29","v":0}]
[{"$f":"'B Fleet Scoring'!A30","v":"Maury 2"},{"$f":"'B Fleet Scoring'!B30","v":1},{"$f":"'B Fleet Scoring'!C30","v":12},{"$f":"'B Fleet Scoring'!D30","v":14},{"$f":"'B Fleet Scoring'!E30","v":3},{"$f":"'B Fleet Scoring'!F30","v":9},{"$f":"'B Fleet Scoring'!G30","v":14},{"$f":"'B Fleet Scoring'!H30","v":5},{"$f":"'B Fleet Scoring'!I30","v":3},{"$f":"'B Fleet Scoring'!J30","v":0},{"$f":"'B Fleet Scoring'!K30","v":7},{"$f":"'B Fleet Scoring'!L30","v":0},{"$f":"'B Fleet Scoring'!M30","v":0},{"$f":"'B Fleet Scoring'!N30","v":9},{"$f":"'B Fleet Scoring'!O30","v":0},{"$f":"'B Fleet Scoring'!P30","v":0},{"$f":"'B Fleet Scoring'!Q30","v":11},{"$f":"'B Fleet Scoring'!R30","v":0},{"$f":"'B Fleet Scoring'!S30","v":0},{"$f":"'B Fleet Scoring'!T30","v":13},{"$f":"'B Fleet Scoring'!U30","v":0},{"$f":"'B Fleet Scoring'!V30","v":0},{"$f":"'B Fleet Scoring'!W30","v":1},{"$f":"'B Fleet Scoring'!X30","v":0},{"$f":"'B Fleet Scoring'!Y30","v":0},{"$f":"'B Fleet Scoring'!Z30","v":3},{"$f":"'B Fleet Scoring'!AA30","v":0},{"$f":"'B Fleet Scoring'!AB30","v":0}]
[{"$f":"'B Fleet Scoring'!A31","v":0},{"$f":"'B Fleet Scoring'!B31","v":0},{"$f":"'B Fleet Scoring'!C31","v":0},{"$f":"'B Fleet Scoring'!D31","v":0},{"$f":"'B Fleet Scoring'!E31","v":0},{"$f":"'B Fleet Scoring'!F31","v":0},{"$f":"'B Fleet Scoring'!G31","v":0},{"$f":"'B Fleet Scoring'!H31","v":0},{"$f":"'B Fleet Scoring'!I31","v":0},{"$f":"'B Fleet Scoring'!J31","v":0},{"$f":"'B Fleet Scoring'!K31","v":0},{"$f":"'B Fleet Scoring'!L31","v":0},{"$f":"'B Fleet Scoring'!M31","v":0},{"$f":"'B Fleet Scoring'!N31","v":0},{"$f":"'B Fleet Scoring'!O31","v":0},{"$f":"'B Fleet Scoring'!P31","v":0},{"$f":"'B Fleet Scoring'!Q31","v":0},{"$f":"'B Fleet Scoring'!R31","v":0},{"$f":"'B Fleet Scoring'!S31","v":0},{"$f":"'B Fleet Scoring'!T31","v":0},{"$f":"'B Fleet Scoring'!U31","v":0},{"$f":"'B Fleet Scoring'!V31","v":0},{"$f":"'B Fleet Scoring'!W31","v":0},{"$f":"'B Fleet Scoring'!X31","v":0},{"$f":"'B Fleet Scoring'!Y31","v":0},{"$f":"'B Fleet Scoring'!Z31","v":0},{"$f":"'B Fleet Scoring'!AA31","v":0},{"$f":"'B Fleet Scoring'!AB31","v":0}]
[{"$f":"'B Fleet Scoring'!A32","v":0},{"$f":"'B Fleet Scoring'!B32","v":0},{"$f":"'B Fleet Scoring'!C32","v":0},{"$f":"'B Fleet Scoring'!D32","v":0},{"$f":"'B Fleet Scoring'!E32","v":0},{"$f":"'B Fleet Scoring'!F32","v":0},{"$f":"'B Fleet Scoring'!G32","v":0},{"$f":"'B Fleet Scoring'!H32","v":0},{"$f":"'B Fleet Scoring'!I32","v":0},{"$f":"'B Fleet Scoring'!J32","v":0},{"$f":"'B Fleet Scoring'!K32","v":0},{"$f":"'B Fleet Scoring'!L32","v":0},{"$f":"'B Fleet Scoring'!M32","v":0},{"$f":"'B Fleet Scoring'!N32","v":0},{"$f":"'B Fleet Scoring'!O32","v":0},{"$f":"'B Fleet Scoring'!P32","v":0},{"$f":"'B Fleet Scoring'!Q32","v":0},{"$f":"'B Fleet Scoring'!R32","v":0},{"$f":"'B Fleet Scoring'!S32","v":0},{"$f":"'B Fleet Scoring'!T32","v":0},{"$f":"'B Fleet Scoring'!U32","v":0},{"$f":"'B Fleet Scoring'!V32","v":0},{"$f":"'B Fleet Scoring'!W32","v":0},{"$f":"'B Fleet Scoring'!X32","v":0},{"$f":"'B Fleet Scoring'!Y32","v":0},{"$f":"'B Fleet Scoring'!Z32","v":0},{"$f":"'B Fleet Scoring'!AA32","v":0},{"$f":"'B Fleet Scoring'!AB32","v":0}]
[{"$f":"'B Fleet Scoring'!A33","v":0},{"$f":"'B Fleet Scoring'!B33","v":0},{"$f":"'B Fleet Scoring'!C33","v":0},{"$f":"'B Fleet Scoring'!D33","v":0},{"$f":"'B Fleet Scoring'!E33","v":0},{"$f":"'B Fleet Scoring'!F33","v":0},{"$f":"'B Fleet Scoring'!G33","v":0},{"$f":"'B Fleet Scoring'!H33","v":0},{"$f":"'B Fleet Scoring'!I33","v":0},{"$f":"'B Fleet Scoring'!J33","v":0},{"$f":"'B Fleet Scoring'!K33","v":0},{"$f":"'B Fleet Scoring'!L33","v":0},{"$f":"'B Fleet Scoring'!M33","v":0},{"$f":"'B Fleet Scoring'!N33","v":0},{"$f":"'B Fleet Scoring'!O33","v":0},{"$f":"'B Fleet Scoring'!P33","v":0},{"$f":"'B Fleet Scoring'!Q33","v":0},{"$f":"'B Fleet Scoring'!R33","v":0},{"$f":"'B Fleet Scoring'!S33","v":0},{"$f":"'B Fleet Scoring'!T33","v":0},{"$f":"'B Fleet Scoring'!U33","v":0},{"$f":"'B Fleet Scoring'!V33","v":0},{"$f":"'B Fleet Scoring'!W33","v":0},{"$f":"'B Fleet Scoring'!X33","v":0},{"$f":"'B Fleet Scoring'!Y33","v":0},{"$f":"'B Fleet Scoring'!Z33","v":0},{"$f":"'B Fleet Scoring'!AA33","v":0},{"$f":"'B Fleet Scoring'!AB33","v":0}]
[{"$f":"'B Fleet Scoring'!A34","v":0},{"$f":"'B Fleet Scoring'!B34","v":0},{"$f":"'B Fleet Scoring'!C34","v":0},{"$f":"'B Fleet Scoring'!D34","v":0},{"$f":"'B Fleet Scoring'!E34","v":0},{"$f":"'B Fleet Scoring'!F34","v":0},{"$f":"'B Fleet Scoring'!G34","v":0},{"$f":"'B Fleet Scoring'!H34","v":0},{"$f":"'B Fleet Scoring'!I34","v":0},{"$f":"'B Fleet Scoring'!J34","v":0},{"$f":"'B Fleet Scoring'!K34","v":0},{"$f":"'B Fleet Scoring'!L34","v":0},{"$f":"'B Fleet Scoring'!M34","v":0},{"$f":"'B Fleet Scoring'!N34","v":0},{"$f":"'B Fleet Scoring'!O34","v":0},{"$f":"'B Fleet Scoring'!P34","v":0},{"$f":"'B Fleet Scoring'!Q34","v":0},{"$f":"'B Fleet Scoring'!R34","v":0},{"$f":"'B Fleet Scoring'!S34","v":0},{"$f":"'B Fleet Scoring'!T34","v":0},{"$f":"'B Fleet Scoring'!U34","v":0},{"$f":"'B Fleet Scoring'!V34","v":0},{"$f":"'B Fleet Scoring'!W34","v":0},{"$f":"'B Fleet Scoring'!X34","v":0},{"$f":"'B Fleet Scoring'!Y34","v":0},{"$f":"'B Fleet Scoring'!Z34","v":0},{"$f":"'B Fleet Scoring'!AA34","v":0},{"$f":"'B Fleet Scoring'!AB34","v":0}]

{"sheet":"FINISH SHEET A","index":4,"n_rows":25,"n_cols":19,"rows_kept":25,"cut":false,"hidden":false,"merged":[[0,0,0,18],[2,5,2,7],[24,1,24,2],[24,4,24,5],[24,6,24,16],[4,6,4,13],[2,0,2,2],[2,15,2,18],[2,10,2,12]]}
[{"$f":"'A Fleet Scoring'!$A$1","v":"Host: PHS/WA       Event: VISA FLEET RACE       Location: NYCC          Date: March 16, 2013"}]
[]
["DNF = FLEET +1",null,null,null,null,"DNS & RET = FLEET +1",null,null,null,null,"DSQ = FLEET +4",null,null,null,null,"PROTEST THROW OUT = DSQ"]
[": "]
[null,null,null,null,null,null,"PLACE (BOAT SAIL NUMBER)"]
[]
["RACE","1st","2nd","3rd","4th","5th","6th","7th","8th","9th","10th","11th","12th","13th","14th","15th","16th","17th","18th"]
["A1",3,1,2,12,5,6,4,15,13,10,11,14,7,9]
["A2",2,3,4,1,5,12,13,15,6,11,10,14,9,7]
["B1",5,2,3,6,13,11,12,4,9,14,15,1,10,7]
["B2",2,5,15,9,3,12,6,10,14,11,13,4,7,1]
["A3",6,4,3,5,2,15,12,1,13,7,11,14,10,9]
["A4",10,4,14,7,3,2,12,6,13,15,5,1,9,11]
["B3",5,2,13,11,9,6,4,14,1,12,3,7,10,15]
["B4",4,2,7,13,15,5,12,11,14,1,10,9,6,3]
["A5",4,6,3,1,15,5,10,14,13,7,2,12,9,11]
["A6"]
["B5",5,4,3,2,7,1,12,11,13,6,15,14,10,9]
["B6"]
["A7"]
["A8"]
["B7"]
["B8"]
[]
["RACE","BOAT #",null,"VS","BOAT #",null,"PROTEST NOTES"]

{"sheet":"FINISH SHEET B","index":5,"n_rows":25,"n_cols":19,"rows_kept":25,"cut":false,"hidden":false,"merged":[[0,0,0,18],[24,1,24,2],[24,4,24,5],[24,6,24,16],[4,6,4,13],[2,15,2,18],[2,0,2,2],[2,5,2,7],[2,10,2,12]]}
[{"$f":"'A Fleet Scoring'!$A$1","v":"Host: PHS/WA       Event: VISA FLEET RACE       Location: NYCC          Date: March 16, 2013"}]
[]
["DNF = FLEET +1",null,null,null,null,"DNS & RET = FLEET +1",null,null,null,null,"DSQ = FLEET +4",null,null,null,null,"PROTEST THROW OUT = DSQ"]
[": "]
[null,null,null,null,null,null,"PLACE (BOAT SAIL NUMBER)"]
[]
["RACE","1st","2nd","3rd","4th","5th","6th","7th","8th","9th","10th","11th","12th","13th","14th","15th","16th","17th","18th"]
["A9"]
["A10"]
["B9"]
["B10"]
["A11"]
["A12"]
["B11"]
["B12"]
["A13"]
["A14"]
["B13"]
["B14"]
["A15"]
["A16"]
["B15"]
["B16"]
[]
["RACE","BOAT #",null,"VS","BOAT #",null,"PROTEST NOTES"]

{"sheet":"FINISH SHEET JV","index":6,"n_rows":26,"n_cols":19,"rows_kept":26,"cut":false,"hidden":false,"merged":[[35,0,35,1],[29,0,29,1],[30,0,30,1],[31,0,31,1],[32,0,32,1],[34,0,34,1],[28,0,28,1],[33,0,33,1],[0,0,0,18],[2,5,2,7],[2,10,2,12],[2,15,2,18],[4,6,4,13],[2,0,2,2],[25,0,25,1],[26,0,26,1],[27,0,27,1]]}
[{"$f":"'A Fleet Scoring'!$A$1","v":"Host: PHS/WA       Event: VISA FLEET RACE       Location: NYCC          Date: March 16, 2013"}]
[]
["DNF = FLEET +1",null,null,null,null,"DNS & RET = FLEET +2",null,null,null,null,"DSQ = FLEET +4",null,null,null,null,"PROTEST THROW OUT = DSQ"]
[": "]
[null,null,null,null,null,null,"PLACE (BOAT SAIL NUMBER)"]
[]
["RACE","1st","2nd","3rd","4th","5th","6th","7th","8th","9th","10th","11th","12th","13th","14th","15th"]
[1]
[2]
[3]
[4]
[5]
[6]
[7]
[8]
[9]
[10]
[11]
[12]
[13]
[14]
[15]
[16]
[]
[]
["TEAM",null,"SAIL #",1,2,3,4,5,6,7,8,9,10,11,12,13,14,15,16]

{"sheet":"A-B Rotation Sheet","index":7,"n_rows":42,"n_cols":28,"rows_kept":42,"cut":false,"hidden":false,"merged":[[1,26,1,27],[1,2,1,3],[1,14,1,15],[1,17,1,18],[0,0,0,24],[1,20,1,21],[1,23,1,24],[1,5,1,6],[1,8,1,9],[1,11,1,12],[22,17,22,18],[22,20,22,21],[22,23,22,24],[22,26,22,27],[22,2,22,3],[22,5,22,6],[22,8,22,9],[22,11,22,12],[22,14,22,15]]}
["Host: PHS/WA       Event: VISA Fleet Race        Location: NYCC          Date: March 16, 2013"]
["A Fleet","Sail","Fleet/Race",null,"Sail","Fleet/Race",null,"Sail","Fleet/Race",null,"Sail","Fleet/Race",null,"Sail","Fleet/Race",null,"Sail","Fleet/Race",null,"Sail","Fleet/Race",null,"Sail","Fleet/Race",null,"Sail","Fleet/Race"]
["School","Boat",1,2,"Boat",3,4,"Boat",5,6,"Boat",7,8,"Boat",9,10,"Boat",11,12,"Boat",13,14,"Boat",15,16,"Boat",17,18]
["Norfolk Academy",1,null,null,{"$f":"IF(B4,B6)","v":3},null,null,{"$f":"IF(E4,E6)","v":5},null,null,{"$f":"IF(H4,H6)","v":7},null,null,{"$f":"IF(K4,K6)","v":9},null,null,{"$f":"IF(N4,N6)","v":11},null,null,{"$f":"IF(Q4,Q6)","v":13},null,null,1,null,null,{"$f":"IF(W4,W6)","v":3}]
[{"$f":"'A Fleet Scoring'!A18","v":"Poquoson 1"},2,null,null,4,null,null,6,null,null,15,null,null,10,null,null,12,null,null,14,null,null,2,null,null,4]
["Walsingham",3,null,null,5,null,null,7,null,null,9,null,null,11,null,null,13,null,null,1,null,null,3,null,null,5]
["Norfolk Collegiate",4,null,null,6,null,null,15,null,null,10,null,null,12,null,null,14,null,null,2,null,null,4,null,null,6]
[{"$f":"'A Fleet Scoring'!A21","v":"Kecoughtan 1"},5,null,null,7,null,null,9,null,null,11,null,null,13,null,null,1,null,null,3,null,null,5,null,null,7]
[{"$f":"'A Fleet Scoring'!A22","v":"Maury 1"},6,null,null,15,null,null,10,null,null,12,null,null,14,null,null,2,null,null,4,null,null,6,null,null,15]
["Nansemond Suffolk",7,null,null,9,null,null,11,null,null,13,null,null,1,null,null,3,null,null,5,null,null,7,null,null,9]
["Hampton/Phoebus",15,null,null,10,null,null,12,null,null,14,null,null,2,null,null,4,null,null,6,null,null,15,null,null,10]
["Smithfield",9,null,null,11,null,null,13,null,null,1,null,null,3,null,null,5,null,null,7,null,null,9,null,null,11]
["HRA",10,null,null,12,null,null,14,null,null,2,null,null,4,null,null,6,null,null,15,null,null,10,null,null,12]
["Poquoson 2 ",11,null,null,13,null,null,1,null,null,3,null,null,5,null,null,7,null,null,9,null,null,11,null,null,13]
["Norfolk Collegiate 2",12,null,null,14,null,null,2,null,null,4,null,null,6,null,null,15,null,null,10,null,null,12,null,null,14]
["Kecoughtan 2",13,null,null,1,null,null,3,null,null,5,null,null,7,null,null,9,null,null,11,null,null,13,null,null,1]
[{"$f":"'A Fleet Scoring'!A30","v":"Maury 2"},14,null,null,2,null,null,4,null,null,6,null,null,15,null,null,10,null,null,12,null,null,14,null,null,2]
[{"$f":"'A Fleet Scoring'!A31","v":0}]
[{"$f":"'A Fleet Scoring'!A32","v":0}]
[{"$f":"'A Fleet Scoring'!A33","v":0}]
[{"$f":"'A Fleet Scoring'!A34","v":0}]
[]
["B Fleet","Sail","Fleet/Race",null,"Sail","Fleet/Race",null,"Sail","Fleet/Race",null,"Sail","Fleet/Race",null,"Sail","Fleet/Race",null,"Sail","Fleet/Race",null,"Sail","Fleet/Race",null,"Sail","Fleet/Race",null,"Sail","Fleet/Race"]
["School","Boat",1,2,"Boat",3,4,"Boat",5,6,"Boat",7,8,"Boat",9,10,"Boat",11,12,"Boat",13,14,"Boat",15,16,"Boat",17,18]
[{"$f":"A4","v":"Norfolk Academy"},2,null,null,{"$f":"IF(B25,B27)","v":4},null,null,{"$f":"IF(E25,E27)","v":6},null,null,{"$f":"IF(H25,H27)","v":15},null,null,{"$f":"IF(K25,K27)","v":10},null,null,{"$f":"IF(N25,N27)","v":12},null,null,{"$f":"IF(Q25,Q27)","v":14},null,null,2,null,null,{"$f":"IF(W25,W27)","v":4}]
["Poquoson 1",3,null,null,5,null,null,7,null,null,9,null,null,11,null,null,13,null,null,1,null,null,3,null,null,5]
[{"$f":"A6","v":"Walsingham"},4,null,null,6,null,null,15,null,null,10,null,null,12,null,null,14,null,null,2,null,null,4,null,null,6]
["Norfolk Collegiate",5,null,null,7,null,null,9,null,null,11,null,null,13,null,null,1,null,null,3,null,null,5,null,null,7]
["Kecoughtan 1",6,null,null,15,null,null,10,null,null,12,null,null,14,null,null,2,null,null,4,null,null,6,null,null,15]
["Maury 1",7,null,null,9,null,null,11,null,null,13,null,null,1,null,null,3,null,null,5,null,null,7,null,null,9]
["Nansemond Suffolk",15,null,null,10,null,null,12,null,null,14,null,null,2,null,null,4,null,null,6,null,null,15,null,null,10]
[{"$f":"A11","v":"Hampton/Phoebus"},9,null,null,11,null,null,13,null,null,1,null,null,3,null,null,5,null,null,7,null,null,9,null,null,11]
[{"$f":"A12","v":"Smithfield"},10,null,null,12,null,null,14,null,null,2,null,null,4,null,null,6,null,null,15,null,null,10,null,null,12]
["HRA",11,null,null,13,null,null,1,null,null,3,null,null,5,null,null,7,null,null,9,null,null,11,null,null,13]
["Poquoson 2 ",12,null,null,14,null,null,2,null,null,4,null,null,6,null,null,15,null,null,10,null,null,12,null,null,14]
["Norfolk Collegiate 2",13,null,null,1,null,null,3,null,null,5,null,null,7,null,null,9,null,null,11,null,null,13,null,null,1]
["Kecoughtan 2",14,null,null,2,null,null,4,null,null,6,null,null,15,null,null,10,null,null,12,null,null,14,null,null,2]
["Maury 2",1,null,null,3,null,null,5,null,null,7,null,null,9,null,null,11,null,null,13,null,null,1,null,null,3]
[0]
[0]
[0]
[0]

{"sheet":"Sheet1","index":8,"n_rows":0,"n_cols":0,"rows_kept":0,"cut":false,"hidden":false,"merged":[]}