{"text_format":"1","workbook":"xlsx","n_sheets":10,"sheets":["A Division & Totals","B Division","Totals","Ordinal Places","A Rotation","B Rotation","JV finishes and Rotation","JV Scoring","Scoring worksheet","Season Standings"],"not_rendered":{"charts":0,"images":0,"macros":1,"external_links":0,"defined_names":1,"comments":0,"pivot_tables":0},"unopened":[],"bounds":{"document_bytes":16777216,"sheet_cells":100000,"rows_first":2000,"rows_last":500,"rows_between":2000,"halvings":0,"cell_chars":16384,"cell_head_chars":4096},"cells_cut":0,"cells_raw":0,"read":"whole","date_system":"1900"}

{"sheet":"A Division & Totals","index":0,"n_rows":32,"n_cols":25,"rows_kept":32,"cut":false,"hidden":false,"merged":[]}
["Sept. 21, 2013 - CCS/Poquoson Regatta @ CCS - A Division Scores"]
[]
["A Division Rotation - Team 1",null,null,null,null,null,null,null,null,null,null,null,null,null,null,null,null,null,null,null,null,null,"Total A","B","A+B"]
[null,null,"Race #1  ",null,"Race #2  ",null,"Race #3  ",null,"Race #4  ",null,"Race #5  ",null,"Race #6  ",null,"Race #7  ",null,"Race #8 ",null,"Race #9  ",null,"Race #10 "]
[{"$f":"'A Rotation'!A7","v":"Christchurch School"},{"$f":"'A Rotation'!B7","v":1},1,{"$f":"'A Rotation'!D7","v":1},19,{"$f":"'A Rotation'!F7","v":3},4,{"$f":"'A Rotation'!H7","v":3},1,{"$f":"'A Rotation'!J7","v":5},1,{"$f":"'A Rotation'!L7","v":5},1,{"$f":"'A Rotation'!N7","v":7},null,{"$f":"'A Rotation'!P7","v":7},null,{"$f":"'A Rotation'!R7","v":9},null,{"$f":"'A Rotation'!T7","v":9},null,null,{"$f":"SUM(C5+E5+G5+I5+K5+M5+O5+Q5+S5+U5)","v":27},{"$f":"'B Division'!W5","v":6},{"$f":"SUM(W5,X5)","v":33}]
[{"$f":"'A Rotation'!A8","v":"Norfolk Academy"},{"$f":"'A Rotation'!B8","v":2},3,{"$f":"'A Rotation'!D8","v":2},6,{"$f":"'A Rotation'!F8","v":4},6,{"$f":"'A Rotation'!H8","v":4},5,{"$f":"'A Rotation'!J8","v":6},10,{"$f":"'A Rotation'!L8","v":6},7,{"$f":"'A Rotation'!N8","v":8},null,{"$f":"'A Rotation'!P8","v":8},null,{"$f":"'A Rotation'!R8","v":10},null,{"$f":"'A Rotation'!T8","v":10},null,null,{"$f":"SUM(C6+E6+G6+I6+K6+M6+O6+Q6+S6+U6)","v":37},{"$f":"'B Division'!W6","v":18},{"$f":"SUM(W6,X6)","v":55}]
[{"$f":"'A Rotation'!A9","v":"Norfolk Collegiate "},{"$f":"'A Rotation'!B9","v":3},6,{"$f":"'A Rotation'!D9","v":3},4,{"$f":"'A Rotation'!F9","v":5},1,{"$f":"'A Rotation'!H9","v":5},3,{"$f":"'A Rotation'!J9","v":7},6,{"$f":"'A Rotation'!L9","v":7},5,{"$f":"'A Rotation'!N9","v":9},null,{"$f":"'A Rotation'!P9","v":9},null,{"$f":"'A Rotation'!R9","v":11},null,{"$f":"'A Rotation'!T9","v":11},null,null,25,{"$f":"'B Division'!W7","v":32},57]
[{"$f":"'A Rotation'!A10","v":"Maury HS"},{"$f":"'A Rotation'!B10","v":4},7,{"$f":"'A Rotation'!D10","v":4},7,{"$f":"'A Rotation'!F10","v":6},15,{"$f":"'A Rotation'!H10","v":6},6,{"$f":"'A Rotation'!J10","v":8},8,{"$f":"'A Rotation'!L10","v":8},13,{"$f":"'A Rotation'!N10","v":10},null,{"$f":"'A Rotation'!P10","v":10},null,{"$f":"'A Rotation'!R10","v":12},null,{"$f":"'A Rotation'!T10","v":12},null,null,56,{"$f":"'B Division'!W8","v":38},94]
[{"$f":"'A Rotation'!A11","v":"Poquoson HS"},{"$f":"'A Rotation'!B11","v":5},2,{"$f":"'A Rotation'!D11","v":5},5,{"$f":"'A Rotation'!F11","v":7},8,{"$f":"'A Rotation'!H11","v":7},10,{"$f":"'A Rotation'!J11","v":9},5,{"$f":"'A Rotation'!L11","v":9},3,{"$f":"'A Rotation'!N11","v":11},null,{"$f":"'A Rotation'!P11","v":11},null,{"$f":"'A Rotation'!R11","v":13},null,{"$f":"'A Rotation'!T11","v":13},null,null,33,{"$f":"'B Division'!W9","v":46},79]
[{"$f":"'A Rotation'!A12","v":"Kecoughtan HS"},{"$f":"'A Rotation'!B12","v":6},15,{"$f":"'A Rotation'!D12","v":6},11,{"$f":"'A Rotation'!F12","v":8},17,{"$f":"'A Rotation'!H12","v":8},17,{"$f":"'A Rotation'!J12","v":10},18,{"$f":"'A Rotation'!L12","v":10},18,{"$f":"'A Rotation'!N12","v":12},null,{"$f":"'A Rotation'!P12","v":12},null,{"$f":"'A Rotation'!R12","v":14},null,{"$f":"'A Rotation'!T12","v":14},null,null,96,{"$f":"'B Division'!W10","v":78},174]
[{"$f":"'A Rotation'!A13","v":"Walsingham Academy"},{"$f":"'A Rotation'!B13","v":7},9,{"$f":"'A Rotation'!D13","v":7},3,{"$f":"'A Rotation'!F13","v":9},3,9,4,{"$f":"'A Rotation'!J13","v":11},4,{"$f":"'A Rotation'!L13","v":11},4,{"$f":"'A Rotation'!N13","v":13},null,{"$f":"'A Rotation'!P13","v":13},null,{"$f":"'A Rotation'!R13","v":15},null,{"$f":"'A Rotation'!T13","v":15},null,null,27,{"$f":"'B Division'!W11","v":54},81]
[{"$f":"'A Rotation'!A14","v":"Smithfield HS"},{"$f":"'A Rotation'!B14","v":8},10,{"$f":"'A Rotation'!D14","v":8},9,{"$f":"'A Rotation'!F14","v":10},13,{"$f":"'A Rotation'!H14","v":10},14,{"$f":"'A Rotation'!J14","v":12},12,{"$f":"'A Rotation'!L14","v":12},8,{"$f":"'A Rotation'!N14","v":14},null,{"$f":"'A Rotation'!P14","v":14},null,{"$f":"'A Rotation'!R14","v":16},null,{"$f":"'A Rotation'!T14","v":16},null,null,66,{"$f":"'B Division'!W12","v":83},149]
[{"$f":"'A Rotation'!A15","v":"Hampton/Phoebus"},{"$f":"'A Rotation'!B15","v":9},13,{"$f":"'A Rotation'!D15","v":9},13,{"$f":"'A Rotation'!F15","v":11},10,{"$f":"'A Rotation'!H15","v":11},11,{"$f":"'A Rotation'!J15","v":13},7,{"$f":"'A Rotation'!L15","v":13},10,{"$f":"'A Rotation'!P15","v":15},null,{"$f":"'A Rotation'!P15","v":15},null,{"$f":"'A Rotation'!R15","v":17},null,{"$f":"'A Rotation'!T15","v":17},null,null,64,{"$f":"'B Division'!W13","v":58},122]
[{"$f":"'A Rotation'!A16","v":"Nansmond Suffolk Academy"},{"$f":"'A Rotation'!B16","v":10},11,{"$f":"'A Rotation'!D16","v":10},10,{"$f":"'A Rotation'!F16","v":12},12,{"$f":"'A Rotation'!H16","v":12},15,{"$f":"'A Rotation'!J16","v":14},14,{"$f":"'A Rotation'!L16","v":14},14,{"$f":"'A Rotation'!N16","v":16},null,{"$f":"'A Rotation'!P16","v":16},null,{"$f":"'A Rotation'!R16","v":18},null,{"$f":"'A Rotation'!T16","v":18},null,null,76,{"$f":"'B Division'!W14","v":68},144]
[{"$f":"'A Rotation'!A17","v":"St Christopher"},{"$f":"'A Rotation'!B17","v":11},18,{"$f":"'A Rotation'!D17","v":11},16,{"$f":"'A Rotation'!F17","v":13},11,{"$f":"'A Rotation'!H17","v":13},12,{"$f":"'A Rotation'!J17","v":15},13,{"$f":"'A Rotation'!L17","v":15},9,{"$f":"'A Rotation'!N17","v":17},null,{"$f":"'A Rotation'!P17","v":17},null,{"$f":"'A Rotation'!R17","v":1},null,{"$f":"'A Rotation'!T17","v":1},null,null,79,{"$f":"'B Division'!W15","v":56},135]
[{"$f":"'A Rotation'!A18","v":"Hampton Roads Academy"},{"$f":"'A Rotation'!B18","v":12},14,{"$f":"'A Rotation'!D18","v":12},12,{"$f":"'A Rotation'!F18","v":14},16,{"$f":"'A Rotation'!H18","v":14},16,{"$f":"'A Rotation'!J18","v":16},11,{"$f":"'A Rotation'!L18","v":16},12,{"$f":"'A Rotation'!N18","v":18},null,{"$f":"'A Rotation'!P18","v":18},null,{"$f":"'A Rotation'!R18","v":2},null,{"$f":"'A Rotation'!T18","v":2},null,null,81,{"$f":"'B Division'!W16","v":93},174]
[{"$f":"'A Rotation'!A19","v":"St Catherines"},{"$f":"'A Rotation'!B19","v":13},16,{"$f":"'A Rotation'!D19","v":13},14,{"$f":"'A Rotation'!F19","v":15},14,{"$f":"'A Rotation'!H19","v":15},13,{"$f":"'A Rotation'!J19","v":17},15,{"$f":"'A Rotation'!L19","v":17},15,{"$f":"'A Rotation'!N19","v":1},null,{"$f":"'A Rotation'!P19","v":1},null,{"$f":"'A Rotation'!R19","v":3},null,{"$f":"'A Rotation'!T19","v":3},null,null,87,{"$f":"'B Division'!W17","v":89},176]
[{"$f":"'A Rotation'!A20","v":"Poquoson 2"},{"$f":"'A Rotation'!B20","v":14},17,{"$f":"'A Rotation'!D20","v":14},8,{"$f":"'A Rotation'!F20","v":16},18,{"$f":"'A Rotation'!H20","v":16},18,{"$f":"'A Rotation'!J20","v":18},16,{"$f":"'A Rotation'!L20","v":18},17,{"$f":"'A Rotation'!N20","v":2},null,{"$f":"'A Rotation'!P20","v":2},null,{"$f":"'A Rotation'!R20","v":4},null,{"$f":"'A Rotation'!T20","v":4},null,null,94,{"$f":"'B Division'!W18","v":101},195]
[{"$f":"'A Rotation'!A21","v":"CCS2"},{"$f":"'A Rotation'!B21","v":15},5,{"$f":"'A Rotation'!D21","v":15},1,{"$f":"'A Rotation'!F21","v":17},5,{"$f":"'A Rotation'!H21","v":17},2,{"$f":"'A Rotation'!J21","v":1},2,{"$f":"'A Rotation'!L21","v":1},2,{"$f":"'A Rotation'!N21","v":3},null,{"$f":"'A Rotation'!P21","v":3},null,{"$f":"'A Rotation'!R21","v":5},null,{"$f":"'A Rotation'!T21","v":5},null,null,{"$f":"SUM(C19+E19+G19+I19+K19+M19+O19+Q19+S19+U19)","v":17},{"$f":"'B Division'!W19","v":27},{"$f":"SUM(W19,X19)","v":44}]
[{"$f":"'A Rotation'!A22","v":"NA2"},{"$f":"'A Rotation'!B22","v":16},8,{"$f":"'A Rotation'!D22","v":16},19,{"$f":"'A Rotation'!F22","v":18},7,{"$f":"'A Rotation'!H22","v":18},7,{"$f":"'A Rotation'!J22","v":2},9,{"$f":"'A Rotation'!L22","v":2},11,{"$f":"'A Rotation'!N22","v":4},null,{"$f":"'A Rotation'!P22","v":4},null,{"$f":"'A Rotation'!R22","v":6},null,{"$f":"'A Rotation'!T22","v":6},null,null,61,{"$f":"'B Division'!W20","v":35},96]
[{"$f":"'A Rotation'!A23","v":"NCS2"},{"$f":"'A Rotation'!B23","v":17},4,{"$f":"'A Rotation'!D23","v":17},2,{"$f":"'A Rotation'!F23","v":1},2,{"$f":"'A Rotation'!H23","v":1},8,{"$f":"'A Rotation'!J23","v":3},3,{"$f":"'A Rotation'!L23","v":3},6,{"$f":"'A Rotation'!N23","v":5},null,{"$f":"'A Rotation'!P23","v":5},null,{"$f":"'A Rotation'!R23","v":7},null,{"$f":"'A Rotation'!T23","v":7},null,null,25,{"$f":"'B Division'!W21","v":49},74]
[{"$f":"'A Rotation'!A24","v":"Maury2"},{"$f":"'A Rotation'!B24","v":18},12,{"$f":"'A Rotation'!D24","v":18},15,{"$f":"'A Rotation'!F24","v":2},9,{"$f":"'A Rotation'!H24","v":2},9,{"$f":"'A Rotation'!J24","v":4},17,{"$f":"'A Rotation'!L24","v":4},16,{"$f":"'A Rotation'!N24","v":6},null,{"$f":"'A Rotation'!P24","v":6},null,{"$f":"'A Rotation'!R24","v":8},null,{"$f":"'A Rotation'!T24","v":8},null,null,78,{"$f":"'B Division'!W22","v":95},173]
[]
[]
["Race A1 - Boat 1 v. Boat 3 - starboard - 3 DSQ - but protest disallowed as it was not reported to committee boat."]
["Race A2 -  Boat 3 v. Boat 1 - kinetics - Boat 1 DSQ"]
["Race A2 - Boat 5 v. Boat 1 - 3 boat length circle - protest withdrawn"]
["Race A2 - Boat 1 v. Boat 16 - starboard - Boat 16 DSQ - Rule 18 broken"]
["Race B3 - Boat 15 v. Boat 12 - protest withdrawn"]
["Race B3 -Boat 7 v. 17 - boat 7 requests redress - protest withdrawn"]
[]
["Race B6 - Boat 16 requests a redress- withdawn"]

{"sheet":"B Division","index":1,"n_rows":22,"n_cols":23,"rows_kept":22,"cut":false,"hidden":false,"merged":[]}
["Sept. 21, 2013 - CCS/Poquoson Regatta @ CCS - B Division Scores"]
[]
["B Division Rotation - Team 1",null,null,null,null,null,null,null,null,null,null,null,null,null,null,null,null,null,null,null,null,null,"Totals B"]
[null,null,"Race #1  ",null,"Race #2  ",null," Race #3  ",null,"Race #4  ",null,"Race #5  ",null,"Race #6  ",null,"Race #7  ",null,"Race #8  ",null,"Race #9   ",null,"Race #10 "]
[{"$f":"'A Rotation'!A7","v":"Christchurch School"},{"$f":"'B Rotation'!B5","v":2},1,{"$f":"'B Rotation'!D5","v":2},1,{"$f":"'B Rotation'!F5","v":4},1,{"$f":"'B Rotation'!H5","v":4},1,{"$f":"'B Rotation'!J5","v":6},1,{"$f":"'B Rotation'!L5","v":6},1,{"$f":"'B Rotation'!N5","v":8},null,{"$f":"'B Rotation'!P5","v":8},null,{"$f":"'B Rotation'!R5","v":10},null,{"$f":"'B Rotation'!T5","v":10},null,null,{"$f":"SUM(C5+E5+G5+I5+K5+M5+O5+Q5+S5+U5)","v":6}]
[{"$f":"'A Rotation'!A8","v":"Norfolk Academy"},{"$f":"'B Rotation'!B6","v":3},3,{"$f":"'B Rotation'!D6","v":3},2,{"$f":"'B Rotation'!F6","v":5},2,{"$f":"'B Rotation'!H6","v":5},2,{"$f":"'B Rotation'!J6","v":7},7,{"$f":"'B Rotation'!L6","v":7},2,{"$f":"'B Rotation'!N6","v":9},null,{"$f":"'B Rotation'!P6","v":9},null,{"$f":"'B Rotation'!R6","v":11},null,{"$f":"'B Rotation'!T6","v":11},null,null,18]
[{"$f":"'A Rotation'!A9","v":"Norfolk Collegiate "},{"$f":"'B Rotation'!B7","v":4},5,{"$f":"'B Rotation'!D7","v":4},6,{"$f":"'B Rotation'!F7","v":6},4,{"$f":"'B Rotation'!H7","v":6},9,{"$f":"'B Rotation'!J7","v":8},5,{"$f":"'B Rotation'!L7","v":8},3,{"$f":"'B Rotation'!N7","v":10},null,{"$f":"'B Rotation'!P7","v":10},null,{"$f":"'B Rotation'!R7","v":12},null,{"$f":"'B Rotation'!T7","v":12},null,null,32]
[{"$f":"'A Rotation'!A10","v":"Maury HS"},{"$f":"'B Rotation'!B8","v":5},7,{"$f":"'B Rotation'!D8","v":5},3,{"$f":"'B Rotation'!F8","v":7},8,{"$f":"'B Rotation'!H8","v":7},4,{"$f":"'B Rotation'!J8","v":9},8,{"$f":"'B Rotation'!L8","v":9},8,{"$f":"'B Rotation'!N8","v":11},null,{"$f":"'B Rotation'!P8","v":11},null,{"$f":"'B Rotation'!R8","v":13},null,{"$f":"'B Rotation'!T8","v":13},null,null,38]
[{"$f":"'A Rotation'!A11","v":"Poquoson HS"},{"$f":"'B Rotation'!B9","v":6},12,{"$f":"'B Rotation'!D9","v":6},8,{"$f":"'B Rotation'!F9","v":8},10,{"$f":"'B Rotation'!H9","v":8},6,{"$f":"'B Rotation'!J9","v":10},6,{"$f":"'B Rotation'!L9","v":10},4,{"$f":"'B Rotation'!N9","v":12},null,{"$f":"'B Rotation'!P9","v":12},null,{"$f":"'B Rotation'!R9","v":14},null,{"$f":"'B Rotation'!T9","v":14},null,null,46]
[{"$f":"'A Rotation'!A12","v":"Kecoughtan HS"},{"$f":"'B Rotation'!B10","v":7},15,{"$f":"'B Rotation'!D10","v":7},9,{"$f":"'B Rotation'!F10","v":9},11,{"$f":"'B Rotation'!H10","v":9},15,{"$f":"'B Rotation'!J10","v":11},15,{"$f":"'B Rotation'!L10","v":11},13,{"$f":"'B Rotation'!N10","v":13},null,{"$f":"'B Rotation'!P10","v":13},null,{"$f":"'B Rotation'!R10","v":15},null,{"$f":"'B Rotation'!T10","v":15},null,null,78]
[{"$f":"'A Rotation'!A13","v":"Walsingham Academy"},{"$f":"'B Rotation'!B11","v":8},9,{"$f":"'B Rotation'!D11","v":8},10,{"$f":"'B Rotation'!F11","v":10},7,{"$f":"'B Rotation'!H11","v":10},10,{"$f":"'B Rotation'!J11","v":12},9,{"$f":"'B Rotation'!L11","v":12},9,{"$f":"'B Rotation'!N11","v":14},null,{"$f":"'B Rotation'!P11","v":14},null,{"$f":"'B Rotation'!R11","v":16},null,{"$f":"'B Rotation'!T11","v":16},null,null,54]
[{"$f":"'A Rotation'!A14","v":"Smithfield HS"},{"$f":"'B Rotation'!B12","v":9},14,{"$f":"'B Rotation'!D12","v":9},18,{"$f":"'B Rotation'!F12","v":11},12,{"$f":"'B Rotation'!H12","v":11},13,{"$f":"'B Rotation'!J12","v":13},14,{"$f":"'B Rotation'!L12","v":13},12,{"$f":"'B Rotation'!N12","v":15},null,{"$f":"'B Rotation'!P12","v":15},null,{"$f":"'B Rotation'!R12","v":17},null,{"$f":"'B Rotation'!T12","v":17},null,null,83]
[{"$f":"'A Rotation'!A15","v":"Hampton/Phoebus"},{"$f":"'B Rotation'!B13","v":10},8,{"$f":"'B Rotation'!D13","v":10},13,{"$f":"'B Rotation'!F13","v":12},13,{"$f":"'B Rotation'!H13","v":12},5,{"$f":"'B Rotation'!J13","v":14},12,{"$f":"'B Rotation'!L13","v":14},7,{"$f":"'B Rotation'!N13","v":16},null,{"$f":"'B Rotation'!P13","v":16},null,{"$f":"'B Rotation'!R13","v":18},null,{"$f":"'B Rotation'!T13","v":18},null,null,58]
[{"$f":"'A Rotation'!A16","v":"Nansmond Suffolk Academy"},{"$f":"'B Rotation'!B14","v":11},17,{"$f":"'B Rotation'!D14","v":11},11,{"$f":"'B Rotation'!F14","v":13},5,{"$f":"'B Rotation'!H14","v":13},8,{"$f":"'B Rotation'!J14","v":15},13,{"$f":"'B Rotation'!L14","v":15},14,{"$f":"'B Rotation'!N14","v":17},null,{"$f":"'B Rotation'!P14","v":17},null,{"$f":"'B Rotation'!R14","v":1},null,{"$f":"'B Rotation'!T14","v":1},null,null,68]
[{"$f":"'A Rotation'!A17","v":"St Christopher"},{"$f":"'B Rotation'!B15","v":12},2,{"$f":"'B Rotation'!D15","v":12},7,{"$f":"'B Rotation'!F15","v":14},14,{"$f":"'B Rotation'!H15","v":14},12,{"$f":"'B Rotation'!J15","v":16},10,{"$f":"'B Rotation'!L15","v":16},11,{"$f":"'B Rotation'!N15","v":18},null,{"$f":"'B Rotation'!P15","v":18},null,{"$f":"'B Rotation'!R15","v":2},null,{"$f":"'B Rotation'!T15","v":2},null,null,56]
[{"$f":"'A Rotation'!A18","v":"Hampton Roads Academy"},{"$f":"'B Rotation'!B16","v":13},18,{"$f":"'B Rotation'!D16","v":13},14,{"$f":"'B Rotation'!F16","v":15},15,{"$f":"'B Rotation'!H16","v":15},14,{"$f":"'B Rotation'!J16","v":17},16,{"$f":"'B Rotation'!L16","v":17},16,{"$f":"'B Rotation'!N16","v":1},null,{"$f":"'B Rotation'!P16","v":1},null,{"$f":"'B Rotation'!R16","v":3},null,{"$f":"'B Rotation'!T16","v":3},null,null,93]
[{"$f":"'A Rotation'!A19","v":"St Catherines"},{"$f":"'B Rotation'!B17","v":14},10,{"$f":"'B Rotation'!D17","v":14},15,{"$f":"'B Rotation'!F17","v":16},16,{"$f":"'B Rotation'!H17","v":16},16,{"$f":"'B Rotation'!J17","v":18},17,{"$f":"'B Rotation'!L17","v":18},15,{"$f":"'B Rotation'!N17","v":2},null,{"$f":"'B Rotation'!P17","v":2},null,{"$f":"'B Rotation'!R17","v":4},null,{"$f":"'B Rotation'!T17","v":4},null,null,89]
[{"$f":"'A Rotation'!A20","v":"Poquoson 2"},{"$f":"'B Rotation'!B18","v":15},13,{"$f":"'B Rotation'!D18","v":15},16,{"$f":"'B Rotation'!F18","v":17},18,{"$f":"'B Rotation'!H18","v":17},18,{"$f":"'B Rotation'!J18","v":1},18,{"$f":"'B Rotation'!L18","v":1},18,{"$f":"'B Rotation'!N18","v":3},null,{"$f":"'B Rotation'!P18","v":3},null,{"$f":"'B Rotation'!R18","v":5},null,{"$f":"'B Rotation'!T18","v":5},null,null,101]
[{"$f":"'A Rotation'!A21","v":"CCS2"},{"$f":"'B Rotation'!B19","v":16},4,{"$f":"'B Rotation'!D19","v":16},5,{"$f":"'B Rotation'!F19","v":18},3,{"$f":"'B Rotation'!H19","v":18},3,{"$f":"'B Rotation'!J19","v":2},2,{"$f":"'B Rotation'!L19","v":2},10,{"$f":"'B Rotation'!N19","v":4},null,{"$f":"'B Rotation'!P19","v":4},null,{"$f":"'B Rotation'!R19","v":6},null,{"$f":"'B Rotation'!T19","v":6},null,null,{"$f":"SUM(C19+E19+G19+I19+K19+M19+O19+Q19+S19+U19)","v":27}]
[{"$f":"'A Rotation'!A22","v":"NA2"},{"$f":"'B Rotation'!B20","v":17},6,{"$f":"'B Rotation'!D20","v":17},4,{"$f":"'B Rotation'!F20","v":1},6,{"$f":"'B Rotation'!H20","v":1},11,{"$f":"'B Rotation'!J20","v":3},3,{"$f":"'B Rotation'!L20","v":3},5,{"$f":"'B Rotation'!N20","v":5},null,{"$f":"'B Rotation'!P20","v":5},null,{"$f":"'B Rotation'!R20","v":7},null,{"$f":"'B Rotation'!T20","v":7},null,null,35]
[{"$f":"'A Rotation'!A23","v":"NCS2"},{"$f":"'B Rotation'!B21","v":18},11,{"$f":"'B Rotation'!D21","v":18},12,{"$f":"'B Rotation'!F21","v":2},9,{"$f":"'B Rotation'!H21","v":2},7,{"$f":"'B Rotation'!J21","v":4},4,{"$f":"'B Rotation'!L21","v":4},6,{"$f":"'B Rotation'!N21","v":6},null,{"$f":"'B Rotation'!P21","v":6},null,{"$f":"'B Rotation'!R21","v":8},null,{"$f":"'B Rotation'!T21","v":8},null,null,49]
[{"$f":"'A Rotation'!A24","v":"Maury2"},{"$f":"'B Rotation'!B22","v":1},16,{"$f":"'B Rotation'!D22","v":1},17,{"$f":"'B Rotation'!F22","v":3},17,{"$f":"'B Rotation'!H22","v":3},17,{"$f":"'B Rotation'!J22","v":5},11,{"$f":"'B Rotation'!L22","v":5},17,{"$f":"'B Rotation'!N22","v":7},null,{"$f":"'B Rotation'!P22","v":7},null,{"$f":"'B Rotation'!R22","v":9},null,{"$f":"'B Rotation'!T22","v":9},null,null,95]

{"sheet":"Totals","index":2,"n_rows":22,"n_cols":8,"rows_kept":22,"cut":false,"hidden":false,"merged":[]}
["Sept. 21, 2013 - CCS/Poquoson Regatta @ CCS - Places"]
[]
["A Division ",null,null,"B Division",null,null,"Combined A & B Divisions"]
[null,"Total A",null,null,"B",null,null,"A+B"]
[{"$f":"'A Rotation'!A7","v":"Christchurch School"},{"$f":"'A Division & Totals'!W5","v":27},null,{"$f":"A5","v":"Christchurch School"},{"$f":"'A Division & Totals'!X5","v":6},null,"Christchurch School",{"$f":"'A Division & Totals'!Y5","v":33}]
[{"$f":"'A Rotation'!A8","v":"Norfolk Academy"},{"$f":"'A Division & Totals'!W6","v":37},null,"Norfolk Academy",{"$f":"'A Division & Totals'!X6","v":18},null,{"$f":"A6","v":"Norfolk Academy"},{"$f":"'A Division & Totals'!Y6","v":55}]
[{"$f":"'A Rotation'!A9","v":"Norfolk Collegiate "},{"$f":"'A Division & Totals'!W7","v":25},null,"Norfolk Collegiate ",{"$f":"'A Division & Totals'!X7","v":32},null,"Norfolk Collegiate ",{"$f":"'A Division & Totals'!Y7","v":57}]
[{"$f":"'A Rotation'!A10","v":"Maury HS"},{"$f":"'A Division & Totals'!W8","v":56},null,"Maury HS",{"$f":"'A Division & Totals'!X8","v":38},null,"Maury HS",{"$f":"'A Division & Totals'!Y8","v":94}]
[{"$f":"'A Rotation'!A11","v":"Poquoson HS"},{"$f":"'A Division & Totals'!W9","v":33},null,"Poquoson HS",{"$f":"'A Division & Totals'!X9","v":46},null,"Poquoson HS",{"$f":"'A Division & Totals'!Y9","v":79}]
[{"$f":"'A Rotation'!A12","v":"Kecoughtan HS"},{"$f":"'A Division & Totals'!W10","v":96},null,"Kecoughtan HS",{"$f":"'A Division & Totals'!X10","v":78},null,"Kecoughtan HS",{"$f":"'A Division & Totals'!Y10","v":174}]
[{"$f":"'A Rotation'!A13","v":"Walsingham Academy"},{"$f":"'A Division & Totals'!W11","v":27},null,"Walsingham Academy",{"$f":"'A Division & Totals'!X11","v":54},null,"Walsingham Academy",{"$f":"'A Division & Totals'!Y11","v":81}]
[{"$f":"'A Rotation'!A14","v":"Smithfield HS"},{"$f":"'A Division & Totals'!W12","v":66},null,"Smithfield HS",{"$f":"'A Division & Totals'!X12","v":83},null,"Smithfield HS",{"$f":"'A Division & Totals'!Y12","v":149}]
[{"$f":"'A Rotation'!A15","v":"Hampton/Phoebus"},{"$f":"'A Division & Totals'!W13","v":64},null,"Hampton/Phoebus",{"$f":"'A Division & Totals'!X13","v":58},null,"Hampton/Phoebus",{"$f":"'A Division & Totals'!Y13","v":122}]
[{"$f":"'A Rotation'!A16","v":"Nansmond Suffolk Academy"},{"$f":"'A Division & Totals'!W14","v":76},null,"Nansmond Suffolk Academy",{"$f":"'A Division & Totals'!X14","v":68},null,"Nansmond Suffolk Academy",{"$f":"'A Division & Totals'!Y14","v":144}]
[{"$f":"'A Rotation'!A17","v":"St Christopher"},{"$f":"'A Division & Totals'!W15","v":79},null,"St Christopher",{"$f":"'A Division & Totals'!X15","v":56},null,"St Christopher",{"$f":"'A Division & Totals'!Y15","v":135}]
[{"$f":"'A Rotation'!A18","v":"Hampton Roads Academy"},{"$f":"'A Division & Totals'!W16","v":81},null,"Hampton Roads Academy",{"$f":"'B Division'!W16","v":93},null,"Hampton Roads Academy",{"$f":"'A Division & Totals'!Y16","v":174}]
[{"$f":"'A Rotation'!A19","v":"St Catherines"},{"$f":"'A Division & Totals'!W17","v":87},null,"St Catherines",{"$f":"'A Division & Totals'!X17","v":89},null,"St Catherines",{"$f":"'A Division & Totals'!Y17","v":176}]
[{"$f":"'A Rotation'!A20","v":"Poquoson 2"},{"$f":"'A Division & Totals'!W18","v":94},null,"Poquoson 2",{"$f":"'A Division & Totals'!X18","v":101},null,"Poquoson 2",{"$f":"'A Division & Totals'!Y18","v":195}]
[{"$f":"'A Rotation'!A21","v":"CCS2"},{"$f":"'A Division & Totals'!W19","v":17},null,"CCS2",{"$f":"'A Division & Totals'!X19","v":27},null,"CCS2",{"$f":"'A Division & Totals'!Y19","v":44}]
[{"$f":"'A Rotation'!A22","v":"NA2"},{"$f":"'A Division & Totals'!W20","v":61},null,"NA2",{"$f":"'A Division & Totals'!X20","v":35},null,"NA2",{"$f":"'A Division & Totals'!Y20","v":96}]
[{"$f":"'A Rotation'!A23","v":"NCS2"},{"$f":"'A Division & Totals'!W21","v":25},null,"NCS2",{"$f":"'A Division & Totals'!X21","v":49},null,"NCS2",{"$f":"'A Division & Totals'!Y21","v":74}]
[{"$f":"'A Rotation'!A24","v":"Maury2"},{"$f":"'A Division & Totals'!W22","v":78},null,"Maury2",{"$f":"'A Division & Totals'!X22","v":95},null,"Maury2",{"$f":"'A Division & Totals'!Y22","v":173}]

{"sheet":"Ordinal Places","index":3,"n_rows":30,"n_cols":15,"rows_kept":30,"cut":false,"hidden":false,"merged":[]}
["Sept. 21, 2013 - CCS/Poquoson Regatta @ CCS - Ordinal Places"]
[]
[null,"A Division ",null,null,null,"B Division",null,null,null,"Combined A & B Divisions",null,null,null,"Combined A&B - Team 1"]
["Place",null,"Total A",null,"Place",null,"B",null,"Place",null,"A+B",null,"Place",null,"A+B"]
[1,"CCS2",17,null,1,"Christchurch School",6,null,1,"Christchurch School",33,null,1,"Christchurch School",33]
[2,"Norfolk Collegiate ",25,null,2,"Norfolk Academy",18,null,2,"CCS2",44,null,2,"Norfolk Academy",55]
[3,"NCS2",25,null,3,"CCS2",27,null,3,"Norfolk Academy",55,null,3,"Norfolk Collegiate ",57]
[4,"Christchurch School",27,null,4,"Norfolk Collegiate ",32,null,4,"Norfolk Collegiate ",57,null,4,"Poquoson HS",79]
[5,"Walsingham Academy",27,null,5,"NA2",35,null,5,"NCS2",74,null,5,"Walsingham Academy",81]
[6,"Poquoson HS",33,null,6,"Maury HS",38,null,6,"Poquoson HS",79,null,6,"Maury HS",94]
[7,"Norfolk Academy",37,null,7,"Poquoson HS",46,null,7,"Walsingham Academy",81,null,7,"Hampton/Phoebus",122]
[8,"Maury HS",56,null,8,"NCS2",49,null,8,"Maury HS",94,null,8,"St Christopher",135]
[9,"NA2",61,null,9,"Walsingham Academy",54,null,9,"NA2",96,null,9,"Nansmond Suffolk Academy",144]
[10,"Hampton/Phoebus",64,null,10,"St Christopher",56,null,10,"Hampton/Phoebus",122,null,10,"Smithfield HS",149]
[11,"Smithfield HS",66,null,11,"Hampton/Phoebus",58,null,11,"St Christopher",135,null,11,"Kecoughtan HS",174]
[12,"Nansmond Suffolk Academy",76,null,12,"Nansmond Suffolk Academy",68,null,12,"Nansmond Suffolk Academy",144,null,12,"Hampton Roads Academy",174]
[13,"Maury2",78,null,13,"Kecoughtan HS",78,null,13,"Smithfield HS",149,null,13,"St Catherines",176]
[14,"St Christopher",79,null,14,"Smithfield HS",83,null,14,"Maury2",173,null,14,"York County"]
[15,"Hampton Roads Academy",81,null,15,"St Catherines",89,null,15,"Kecoughtan HS",174]
[16,"St Catherines",87,null,16,"Hampton Roads Academy",93,null,16,"Hampton Roads Academy",174]
[17,"Poquoson 2",94,null,17,"Maury2",95,null,17,"St Catherines",176]
[18,"Kecoughtan HS",96,null,18,"Poquoson 2",101,null,18,"Poquoson 2",195]
[19,null,null,null,19,null,null,null,19]
[20,null,null,null,20,null,null,null,20]
[21,null,null,null,21,null,null,null,21]
[22,null,null,null,22,null,null,null,22]
[23,null,null,null,23,null,null,null,23]
[24,null,null,null,24,null,null,null,24]
[25,null,null,null,25,null,null,null,25]
[26,null,null,null,26,null,null,null,26]

{"sheet":"A Rotation","index":4,"n_rows":24,"n_cols":21,"rows_kept":24,"cut":false,"hidden":false,"merged":[]}
["Sept. 14, 2013  - Maury Regatta @ NYCC - A Division Rotation"]
[]
["Sept. 21, 2013 - CCS/Poquoson Regatta @ CCS - A Division Rotation"]
[]
["A Division Rotation - Team 1"]
[null,null,"Race #1  ",null,"Race #2  ",null,"Race #3  ",null,"Race #4  ",null,"Race #5  ",null,"Race #6  ",null,"Race #7  ",null,"Race #8 ",null,"Race #9  ",null,"Race #10 "]
["Christchurch School",1,null,1,null,3,null,3,null,5,null,5,null,7,null,7,null,9,null,9]
["Norfolk Academy",2,null,2,null,4,null,4,null,6,null,6,null,8,null,8,null,10,null,10]
["Norfolk Collegiate ",3,null,3,null,5,null,5,null,7,null,7,null,9,null,9,null,11,null,11]
["Maury HS",4,null,4,null,6,null,6,null,8,null,8,null,10,null,10,null,12,null,12]
["Poquoson HS",5,null,5,null,7,null,7,null,9,null,9,null,11,null,11,null,13,null,13]
["Kecoughtan HS",6,null,6,null,8,null,8,null,10,null,10,null,12,null,12,null,14,null,14]
["Walsingham Academy",7,null,7,null,9,null,9,null,11,null,11,null,13,null,13,null,15,null,15]
["Smithfield HS",8,null,8,null,10,null,10,null,12,null,12,null,14,null,14,null,16,null,16]
["Hampton/Phoebus",9,null,9,null,11,null,11,null,13,null,13,null,15,null,15,null,17,null,17]
["Nansmond Suffolk Academy",10,null,10,null,12,null,12,null,14,null,14,null,16,null,16,null,18,null,18]
["St Christopher",11,null,11,null,13,null,13,null,15,null,15,null,17,null,17,null,1,null,1]
["Hampton Roads Academy",12,null,12,null,14,null,14,null,16,null,16,null,18,null,18,null,2,null,2]
["St Catherines",13,null,13,null,15,null,15,null,17,null,17,null,1,null,1,null,3,null,3]
["Poquoson 2",14,null,14,null,16,null,16,null,18,null,18,null,2,null,2,null,4,null,4]
["CCS2",15,null,15,null,17,null,17,null,1,null,1,null,3,null,3,null,5,null,5]
["NA2",16,null,16,null,18,null,18,null,2,null,2,null,4,null,4,null,6,null,6]
["NCS2",17,null,17,null,1,null,1,null,3,null,3,null,5,null,5,null,7,null,7]
["Maury2",18,null,18,null,2,null,2,null,4,null,4,null,6,null,6,null,8,null,8]

{"sheet":"B Rotation","index":5,"n_rows":22,"n_cols":21,"rows_kept":22,"cut":false,"hidden":false,"merged":[]}
["Sept. 21, 2013 - CCS/Poquoson Regatta @ CCS - B Division Rotation"]
[]
["B Division Rotation - Team 1"]
[null,null,"Race #1  ",null,"Race #2  ",null,"Race #3  ",null,"Race #4  ",null,"Race #5  ",null,"Race #6  ",null,"Race #7  ",null,"Race #8 ",null,"Race #9  ",null,"Race #10 "]
[{"$f":"'A Rotation'!A7","v":"Christchurch School"},2,null,2,null,4,null,4,null,6,null,6,null,8,null,8,null,10,null,10]
[{"$f":"'A Rotation'!A8","v":"Norfolk Academy"},3,null,3,null,5,null,5,null,7,null,7,null,9,null,9,null,11,null,11]
[{"$f":"'A Rotation'!A9","v":"Norfolk Collegiate "},4,null,4,null,6,null,6,null,8,null,8,null,10,null,10,null,12,null,12]
[{"$f":"'A Rotation'!A10","v":"Maury HS"},5,null,5,null,7,null,7,null,9,null,9,null,11,null,11,null,13,null,13]
[{"$f":"'A Rotation'!A11","v":"Poquoson HS"},6,null,6,null,8,null,8,null,10,null,10,null,12,null,12,null,14,null,14]
[{"$f":"'A Rotation'!A12","v":"Kecoughtan HS"},7,null,7,null,9,null,9,null,11,null,11,null,13,null,13,null,15,null,15]
[{"$f":"'A Rotation'!A13","v":"Walsingham Academy"},8,null,8,null,10,null,10,null,12,null,12,null,14,null,14,null,16,null,16]
[{"$f":"'A Rotation'!A14","v":"Smithfield HS"},9,null,9,null,11,null,11,null,13,null,13,null,15,null,15,null,17,null,17]
[{"$f":"'A Rotation'!A15","v":"Hampton/Phoebus"},10,null,10,null,12,null,12,null,14,null,14,null,16,null,16,null,18,null,18]
[{"$f":"'A Rotation'!A16","v":"Nansmond Suffolk Academy"},11,null,11,null,13,null,13,null,15,null,15,null,17,null,17,null,1,null,1]
[{"$f":"'A Rotation'!A17","v":"St Christopher"},12,null,12,null,14,null,14,null,16,null,16,null,18,null,18,null,2,null,2]
[{"$f":"'A Rotation'!A18","v":"Hampton Roads Academy"},13,null,13,null,15,null,15,null,17,null,17,null,1,null,1,null,3,null,3]
[{"$f":"'A Rotation'!A19","v":"St Catherines"},14,null,14,null,16,null,16,null,18,null,18,null,2,null,2,null,4,null,4]
[{"$f":"'A Rotation'!A20","v":"Poquoson 2"},15,null,15,null,17,null,17,null,1,null,1,null,3,null,3,null,5,null,5]
[{"$f":"'A Rotation'!A21","v":"CCS2"},16,null,16,null,18,null,18,null,2,null,2,null,4,null,4,null,6,null,6]
[{"$f":"'A Rotation'!A22","v":"NA2"},17,null,17,null,1,null,1,null,3,null,3,null,5,null,5,null,7,null,7]
[{"$f":"'A Rotation'!A23","v":"NCS2"},18,null,18,null,2,null,2,null,4,null,4,null,6,null,6,null,8,null,8]
[{"$f":"'A Rotation'!A24","v":"Maury2"},1,null,1,null,3,null,3,null,5,null,5,null,7,null,7,null,9,null,9]

{"sheet":"JV finishes and Rotation","index":6,"n_rows":29,"n_cols":15,"rows_kept":29,"cut":false,"hidden":false,"merged":[]}
["Sept. 21, 2013 - CCS/Poquoson Regatta @ CCS - Junior Varsity"]
[]
["JV Scoring",null,null,null,null,null,null,null,null,null,null,"Totals","Place"]
[null,"Race #1","Race #2","Race #3","Race #4","Race #5","Race #6","Race #7","Race #8","Race #9","Race #10"]
[1,null,null,null,null,null,null,null,null,null,null,{"$f":"SUM(B5:K5)","v":0},0,null,"Race #1"]
["Norfolk Academy",1,2,2,null,1,null,null,null,null,null,6,1,null,"Race #2 - "]
["Maury High School",2,1,null,1,2,null,null,null,null,null,6,2,null,"Race #3 - "]
["NSA",3,null,3,2,4,null,null,null,null,null,12,3,null,"Race #4 - "]
["York County",null,4,4,3,3,null,null,null,null,null,14,4,null,"Race #5 - "]
["Norfolk Collegiate",5,5,1,4,null,null,null,null,null,null,15,5,null,"Race #6 - "]
["Walsingham",8,3,5,5,null,null,null,null,null,null,21,6]
["St. Christopher",4,null,7,8,5,null,null,null,null,null,24,7]
["St. Catherine",7,6,null,6,7,null,null,null,null,null,26,8]
["HRA",6,7,6,null,8,null,null,null,null,null,27,9]
["Poquoson",null,8,8,7,6,null,null,null,null,null,29,10]
[]
[]
[]
[null,"Race #1","Race #2","Race #3","Race #4","Race #5","Race #6","Race #7","Race #8","Race #9","Race #10"]
["Norfolk Collegiate",1,2,3,4,"bye",5,6,7,8,"bye"]
["Norfolk Academy",2,3,4,"bye",5,6,7,8,"bye",1]
["Maury High School",3,4,"bye",5,6,7,8,"bye",1,2]
["NSA",4,"bye",5,6,7,8,"bye",1,2,3]
["York County","bye",5,6,7,8,"bye",1,2,3,4]
["Walsingham",5,6,7,8,"bye",1,2,3,4,"bye"]
["HRA",6,7,8,"bye",1,2,3,4,"bye",5]
["St. Catherine",7,8,"bye",1,2,3,4,"bye",5,6]
["St. Christopher",8,"bye",1,2,3,4,"bye",5,6,7]
["Poquoson","bye",1,2,3,4,"bye",5,6,7,8]

{"sheet":"JV Scoring","index":7,"n_rows":12,"n_cols":11,"rows_kept":12,"cut":false,"hidden":false,"merged":[]}
["Sept. 21, 2013 - CCS/Poquoson Regatta @ CCS - Junior Varsity"]
[]
["JV Scoring"]
[null,"Race #1","Race #2","Race #3","Race #4","Race #5","Race #6","Race #7","Race #8","Race #9","Race #10"]
[null,2,4,3,5,5]
[null,3,3,4,6,6]
[null,4,6,5,7,8]
[null,8,5,6,4,7]
[null,1,2,7,8,3]
[null,6,8,8,1,4]
[null,7,7,1,3,2]
[null,5,1,2,2,1]

{"sheet":"Scoring worksheet","index":8,"n_rows":25,"n_cols":27,"rows_kept":25,"cut":false,"hidden":false,"merged":[[24,19,24,29],[2,0,2,7],[24,1,24,2],[0,0,0,18],[2,10,2,12],[2,15,2,18],[4,6,4,13],[24,4,24,5],[24,6,24,16]]}
["Date:                 Host/Event:"]
[]
["DNF, DNS, OCS, DSQ = FLEET +1"]
[": "]
[null,null,null,null,null,null,"PLACE (BOAT SAIL NUMBER)"]
[]
["RACE","1st","2nd","3rd","4th","5th","6th","7th","8th","9th","10th","11th","12th","13th","14th","15th","16th","17th","18th","19th","20th","21st","22nd","23rd","24th","25th","26th"]
["A1"]
["A2"]
["B1"]
["B2"]
["A3"]
["A4"]
["B3"]
["B4"]
["A5"]
["A6"]
["B5"]
["B6"]
["A7"]
["A8"]
["B7"]
["B8"]
[]
["RACE","BOAT #",null,"VS","BOAT #",null,"PROTEST NOTES"]

{"sheet":"Season Standings","index":9,"n_rows":20,"n_cols":11,"rows_kept":20,"cut":false,"hidden":false,"merged":[]}
["VISA Fall 2013 - Season Standings - Team 1"]
[]
[]
[]
["Combined A&B - Team 1","Sept. 7","Sept. 14 ","Sept. 21","Sept. 28","Oct.5 ","Oct. 12","Oct. 26",null,"Total ","Season Standing"]
[]
["Christchurch School",1,2,1,null,null,null,null,null,{"$f":"SUM(B7:H7)","v":4},1]
["Norfolk Academy",4,1,2,null,null,null,null,null,{"$f":"SUM(B8:H8)","v":7},2]
["Norfolk Collegiate ",3,3,3,null,null,null,null,null,{"$f":"SUM(B9:H9)","v":9},3]
["Poquoson HS",2,8,4,null,null,null,null,null,{"$f":"SUM(B10:H10)","v":14},4]
["Maury HS",6,4,6,null,null,null,null,null,{"$f":"SUM(B11:H11)","v":16},5]
["Walsingham Academy",10,5,5,null,null,null,null,null,{"$f":"SUM(B12:H12)","v":20},6]
["Smithfield HS",7,7,10,null,null,null,null,null,{"$f":"SUM(B13:H13)","v":24},7]
["Kecoughtan HS",8,6,11,null,null,null,null,null,{"$f":"SUM(B14:H14)","v":25},8]
["Hampton/Phoebus",9,10,7,null,null,null,null,null,{"$f":"SUM(B15:H15)","v":26},9]
["St Christopher",5,14,8,null,null,null,null,null,{"$f":"SUM(B16:H16)","v":27},10]
["Nansmond Suffolk Academy",11,9,9,null,null,null,null,null,{"$f":"SUM(B17:H17)","v":29},11]
["Hampton Roads Academy",13,11,12,null,null,null,null,null,{"$f":"SUM(B18:H18)","v":36},12]
["St Catherines",12,12,13,null,null,null,null,null,{"$f":"SUM(B19:H19)","v":37},13]
["York County",14,13,14,null,null,null,null,null,{"$f":"SUM(B20:H20)","v":41},14]